BEGIN:VCALENDAR
METHOD:PUBLISH
VERSION:2.0
PRODID:-//Eventilla iCal Syndication//NONSGML Liana//EN
BEGIN:VEVENT
UID:LPAZg@eventilla.com
DTSTAMP:20250513T140000Z
DTSTART:20250513T140000Z
DTEND:20250513T163000Z
SUMMARY:Promptit haltuun! -työpaja
DESCRIPTION:Promptit haltuun! Tekoäly kirjoittajan apuna -työpaja\n \ntiistaina 13.5. klo 17–19.30Journalistiliiton toimisto\, Ympyrätalo\, Siltasaarenkatu 18 A\, 7. krs\n \nTämä koulutus on uusinta lokakuussa 2024 järjestetystä kurssista\, ja se on tarkoitettu ensisijaisesti uusille osallistujille.\n \nTuntuuko siltä\, että tekoäly tulee työpöydällesi\, halusit tai et? Tekoäly\, kuten ChatGPT\, on vakiinnuttamassa paikkansa osana  kirjoittajien\, viestijöiden ja journalistien arkea. Tämä koulutus on suunnattu juuri sinulle\, joka olet ehkä jo kokeillut tekoälyä\, mutta haluat oppia hyödyntämään sitä paremmin\, fiksummin ja vastuullisemmin.\nTässä koulutuksessa pääset itse harjoittelemaan\, miten tekoäly toimii. Opit\, miten kehotat tekoälyä tehokkaasti eli rakennat toimivia prompteja ja millaisiin tehtäviin tekoäly soveltuu. Pääset harjoittelemaan tekoälyn hyödyntämistä kouluttajan opastuksella. Kokeilemme esimerkiksi\, miten tekoälyä voi hyödyntää\n\ntekstin luonnostelussa\nideoinnissa\ntiedonhaussa ja taustoittamisessa\ntyylin ja sävyn muokkauksessa\n\nLisäksi pohdimme tekoälyyn liittyviä vastuullisen käytön näkökulmia.\nKoulutuksen jälkeen:\n\nYmmärrät\, miten etenkin kielimallit\, kuten ChatGPT\, toimivat ja mitä niiden käyttö edellyttää\nOsaat ohjata tekoälyä tehokkaasti ja tarkoituksenmukaisesti\nTiedostat tekoälyn mahdollisuudet ja sudenkuopat kirjoittajan työssä\nPystyt hyödyntämään tekoälyä heti omissa työtehtävissäsi\n\nTekoälyn saloihin meidät opastaa journalistitaustainen kouluttaja Pinja Valkonen.\n\nTule mukaan oppimaan\, kokeilemaan ja keskustelemaan siitä\, miten tekoäly vaikuttaa kirjoittajan työhön!\nKoulutukseen valmistautuminen\nHarjoituksia varten tarvitset oman kannettavan tietokoneen ja jonkin kielimallin. Näitä ovat esimerkiksi Chat GPT\, Copilot for Bing ja Google Gemini. Luo käyttäjätili ja kokeile kielimallin käyttöä jo ennen koulutusta\, niin pääset heti kiinni harjoituksiin!\nHUOM. Ilmaistileissä on käyttöraja\, joka saattaa tulla työpajan aikana vastaan. Käyttörajoituksia voi yrittää kiertää käyttämällä kahta sovellusta rinnakkain (esimerkiksi ChatGPT:n ja Copilotin ilmaisversiot).\nIlmoittautuminen\nKoulutukseen mahtuu mukaan 30 HSJ:läistä ja se on maksullinen:\n\n 30 euroa työsuhteiset\, freelancerit\, eläkeläiset\n 15 euroa työttömät ja opiskelijat\n\nLippu valitaan ilmoittautumisen yhteydessä. Maksua varten tarvitset pankkitunnukset tai puhelimen mobiilipankkisovelluksen.\nHintaan sisältyy ennen koulutusta tarjottava kahvi/tee ja sämpylä.\nHSJ tukee jäsentensä osallistumista maksullisiin koulutuksiin ja tapahtumiin vähintään 40 prosentilla. Muistathan\, että työnantajalta voi tiedustella osallistumista ammatillisen koulutuksen kustannuksiin.\nIlmoittaudu viimeistään 6.5. Tervetuloa!\nPeruutusehdot\n\nJos osallistuja peruu koulutuksen viimeistään 6.5. kurssimaksu palautetaan\, mutta siitä vähennetään käsittelykuluina viisi euroa.\nJos peruutus tulee myöhemmin kuin 6.5. tai ilmoittautunut ei peruuta lainkaan eikä saavu paikalle\, 30 euron hintaisia tai sitä pienempiä kurssimaksuja ei palauteta (poikkeuksena sairaustodistus).\nHUOM! kurssin peruutus tulee tehdä myös HSJ:n toimistoon: johanna.sillanpaa@hsj.fi.\n
LOCATION:Journalistiliitto\, Siltasaarenkatu 18 A, 7. krs\, 00530\,
 Helsinki\, Suomi
URL:http://tapahtuma.hsj.fi/promptit_haltuun_workshop
END:VEVENT
END:VCALENDAR
