BEGIN:VCALENDAR
METHOD:PUBLISH
VERSION:2.0
PRODID:-//Eventilla iCal Syndication//NONSGML Liana//EN
BEGIN:VEVENT
UID:LyRBJ@eventilla.com
DTSTAMP:20220927T133000Z
DTSTART:20220927T133000Z
DTEND:20220927T173000Z
SUMMARY:Hätäensiapukurssi 27.9.
DESCRIPTION:SPR Hätäensiapukurssi 4 t®\ntiistaina 27.9.2022 kello 16.30-20.30\nHietaniemenkatu 7B\, 5. kerros\nOnko aika päivittää ensiaputaitosi? Pelastustaidoista on hyötyä niin etätyössä\, työpaikalla kuin vapaa-ajalla!\nSuomen Punaisen Ristin kurssilla harjoitellaan hätäensiavun aiheita. Tavoitteena on lisätä auttamisrohkeutta henkeä uhkaavissa tilanteissa. Koulutus sisältää käytännön harjoitteita ja ohjausta.\nKurssille mahtuu 20 osallistujaa. Osallistujat saavat mobiilitodistuksen kurssin suorittamisesta.\nKenelle?\nKurssille voi osallistua ilman aikaisempaa ensiapukoulutusta. Koulutus soveltuu kaikille\, jotka haluavat kehittää omia ensiaputaitojaan tai päivittää voimassaolevan Ensiapukurssi EA 1® - tai EA 2® -todistuksen seuraavaksi kolmeksi vuodeksi. Päivityksen voi tehdä yhden kerran.\nKurssin tarkempi sisältö\n\ntoiminta auttamistilanteessa\ntajuttoman henkilön tunnistaminen ja ensiapu\npainelu-puhalluselvytys sekä neuvovan defibrillaattorin käyttö\nensiapu tukehtumassa olevalle henkilölle\nraajassa olevan suuren verenvuodon tyrehdyttäminen\nsokki\ntapaturmien ehkäisy\n\nKouluttaja\nKouluttaja on Punaisen Ristin ensiavun ja terveystiedon kouluttaja (ETK)\, jonka pohjakoulutuksena on sairaanhoitajan tai terveydenhoitajan tutkinto tai Punaisen Ristin hätäensiavunkouluttaja (HEK)\, jonka pohjakoulutuksena on terveydenhuollon ammattitutkinto.\nTodistus\nSPR:n ensiapukurssit ovat henkilösertifikoituja koulutuksia. Osallistujan suoritus viedään todistus- ja pätevyysrekisteriin\, jossa osallistuja voi itse seurata todistuksensa voimassaoloa.\nOsallistuja saa mobiilitodistuksen kurssin suorittamisesta.\nJos osallistuja tahtoo kurssista mobiilitodistuksen lisäksi perinteisen kotiin lähetettävän ensiapukortin\, sen voi tilata itse SPR:n järjestelmän kautta hintaan 14\,90 € + alv.\nOsallistumismaksu\nKurssin hinta on 15 euroa / HSJ:n jäsen.\nHSJ tukee voimakkaasti jäsentensä osallistumista kurssille: yhdistys tarjoaa jäsenilleen koulutuksen ja maksaa osan myös osallistujien henkilökohtaisesta kurssitodistuksesta.\nKurssi maksetaan ilmoittautumisen yhteydessä. Maksua varten tarvitset pankkitunnukset tai puhelimen mobiilipankkisovelluksen.\nIlmoittautuminen päättyy maanantaina 12.9. kello 23.59.\nTervetuloa!
LOCATION:SPR\, Hietaniemenkatu 7 B, 5. kerros\, Helsinki
URL:http://tapahtuma.hsj.fi/event/LyRBJ
END:VEVENT
END:VCALENDAR
