BEGIN:VCALENDAR
METHOD:PUBLISH
VERSION:2.0
PRODID:-//Eventilla iCal Syndication//NONSGML Liana//EN
BEGIN:VEVENT
UID:LyRbV@eventilla.com
DTSTAMP:20200923T140000Z
DTSTART:20200923T140000Z
DTEND:20200923T163000Z
SUMMARY:Miten selviän jatkuvassa muutoksessa?
DESCRIPTION:Miten selviän jatkuvassa muutoksessa?\nKeskiviikkona 23.9. klo 17 - 19.30\nSokos Hotelli Presidentti\, Eteläinen Rautatiekatu 4\, 00100 Helsinki\nResilienssi\, eli psyykkinen palautumiskyky\, on taito\, jonka voi oppia.Näitä mielen hyvinvoinnin taitoja tarvitsemme nyt koronakaudella kipeämmin kuin koskaan.\nKoulutus tarjoaa osallistujille keinoja mielenterveyden ja resilienssin vahvistamiseksi\, käytännön harjoitusten kautta. Psyykkisen palautumisen taitoja voi kehittää jokaisessa ikävaiheessa.\nKoulutuksessa käsitellään mm. seuraavia aiheita:\n\nMielenterveys voimavarana\, mitä mielenterveys on?\nMielenterveyden suojatekijät ja riskitekijät\nMikä kaikki haastaa mielenterveyttä?\nMiten mieli reagoi kriisi- ja stressitilanteessa?\nResilienssi – voimavara muutoksissa\nResilienssin kehittäminen\, palautuminen ja psyykkinenkestävyys\, millainen selviytyjä olen?\nTunnetaidot  ja mielenterveyden vahvistaminen arkisena taitona\n\nKoulutus sisältää sekä luento-osuuden lisäksi käytännön harjoituksia. Kouluttajana toimii Mieli ry:n asiantuntija.Kurssille mahtuu 40 henkilöä.\nKurssin hinta on 25 euroa.Kysy työnantajaltasi\, maksaako se kurssin.Työttömät ja opiskelijat 10 euroa.\nKurssimaksu on maksettava ilmoittautumisen yhteydessä.JOS maksuvaiheessa tulee ongelmia ja ilmoittautuminen keskeytyy\, ilmoita asiasta toimistoontuula@hsj.fi tai jaana.virtanen@hsj.fi.Saat paluupostissa linkin\, josta pääset jatkamaan ilmoittautumisen ja maksamisen loppuun.  
LOCATION:Sokos Hotelli Presidentti\, Eteläinen Rautatiekatu 4\, 00100\,
 Helsinki
URL:http://tapahtuma.hsj.fi/event/LyRbV
END:VEVENT
END:VCALENDAR
