BEGIN:VCALENDAR
METHOD:PUBLISH
VERSION:2.0
PRODID:-//Eventilla iCal Syndication//NONSGML Liana//EN
BEGIN:VEVENT
UID:M0Rre@eventilla.com
DTSTAMP:20210505T170000Z
DTSTART:20210505T170000Z
DTEND:20210505T190000Z
SUMMARY:Maailman 50 vaarallisinta yhtiötä
DESCRIPTION:Mitä journalistin tulee tietää maailman 50 vaarallisimmasta yhtiöstä?\nKeskiviikkona 5.5. klo 17-19 Teams-webinaari\nMitä journalistin pitäisi ajatella sellaisista yhtiöitä kuin Facebook\, Apple\, Ikea\, Amazon tai Google\, kun käytämme työssämme näiden palveluja ja tuotteita tai esittelemme niitä lukijoillemme ja katsojillemme.\nOlet sitten yleistoimittaja tai sisustustoimittaja\, nyt kannattaa olla perillä siitä\n\nmihin maailman talous on menossa?\nkuka hallitsee maailman taloutta?\nmikä meidän journalistien rooli talouden suuressa murrosvaiheessa on?\npitäisikö ulkomaankirjeenvaihtajien lisäksi medioilla olla omat Amazon-\, Google- ja Tencent-kirjeenvaihtajat?\nentä miten voivat toimia tekniikasta\, muodista ja sisustuksesta kirjoittavat toimittajat?\nmiten työskentelevät politiikan toimittajat\, jos seuraavan presidentin nimellä tai hallituksen värillä ei ole väliä\, kun maailmaa hallitsevat markkinavoimat?\n\n\nHerättelijöinä toimivat Helsingin Sanomien toimittaja Juha-Pekka Raeste ja Yleisradion toimittaja Hannu Sokala\, jotka ovat seuranneet globaalin talouden kehitystä vuosikymmenten ajan. Heiltä on ilmestynyt tuore kirjajärkäle Maailman 50 vaarallisinta yhtiötä (Nemo).\nGlobaalit yhtiöt ovat kasvaneet niin suuriksi\, että niiden päätökset ratkaisevat pitkälti myös\n\nkansainvälisen tulonjaon\nilmaston lämpenemisen\ndemokratian tulevaisuuden\n\nJos teet journalismia näistä aiheista\, otatko jo työssäsi huomioon globaalitalouden vaikutuksen? Jos et\,\nIlmoittaudu heti mukaan!
LOCATION:Teams-webinaari
URL:http://tapahtuma.hsj.fi/event/M0Rre
END:VEVENT
END:VCALENDAR
