BEGIN:VCALENDAR
METHOD:PUBLISH
VERSION:2.0
PRODID:-//Eventilla iCal Syndication//NONSGML Liana//EN
BEGIN:VEVENT
UID:MK3wg@eventilla.com
DTSTAMP:20251027T150000Z
DTSTART:20251027T150000Z
DTEND:20251027T180000Z
SUMMARY:Lyhytvideon ABC
DESCRIPTION:Toiveuusinta:Lyhytvideon ABC\nmaanantaina 27.10. klo 17–20Journalistiliiton toimisto\, Ympyrätalo\, Siltasaarenkatu 18 A\, 7. krs\, Helsinki\nTämä koulutus on uusinta helmikuussa 2025 järjestetystä kurssista\, ja se on tarkoitettu ensisijaisesti uusille osallistujille.\nLyhytvideot\, eli muutamien kymmenien sekuntien mittaiset pystyvideot\, ovat tulleet jäädäkseen. Kestoltaan rajatun lyhytvideon avulla on helppo herättää huomiota ja puhutella katsojaa henkilökohtaisesti. Hyvin tiivistetyn ja visuaalisesti kiinnostavan sisällön tuottaminen ei kuitenkaan ole itsestäänselvää.\nMillainen lyhytvideo kiinnostaa katsojia? Miten suunnitellaan\, kuvataan\, äänitetään ja leikataan hyvä lyhytvideo? Entä miten ja missä se kannattaisi julkaista? Tule HSJ:n koulutukseen ottamaan asiasta selvää!\nKouluttajana toimii Iltalehden sosiaalisen median tuottaja Jenni Smith. Hän vetää palkittua IL-palat-tiimiä\, joka tuottaa lyhyitä pystyvideoita sekä Iltalehden omalle sivustolle että sosiaaliseen mediaan. Keväällä 2023 lanseerattu IL-palat tavoittaa jo yli miljoona käyttäjää lähes viikoittain.\nIllan aikana tutustumme lyhytvideon formaattiin\, analysoimme toimivia sisältöjä ja otamme haltuun käsikirjoittamisen perusteet. Pääset harjoittelemaan videon kuvaamista ja äänittämistä sekä valmiin materiaalin leikkaamista ja julkaisemista omalla puhelimellasi. \nOsallistuminen ei edellytä aiempaa kokemusta videokuvaamisesta tai editoinnista. Harjoituksia varten tarvitset oman älypuhelimen sekä riittävästi akkua ja tallennustilaa videoiden kuvaamista varten. Lisäksi tarvitset Instagramin puhelinsovelluksen ja käyttäjätilin videon editointia varten. Lataa sovellus\, luo tili ja kokeile sen käyttöä jo ennen koulutusta\, niin pääset heti kiinni harjoituksiin. \nKoulutuksen jälkeen hallitset lyhytvideon kuvaamisen perusteet\, osaat editoida ja julkaista oman videosi ja hahmotat millainen sisältö toimii parhaiten somessa.\nKoulutukseen mahtuu mukaan 25 HSJ:läistä ja se on maksullinen:\n\n 30 euroa työsuhteiset\, freelancerit\, eläkeläiset\n 15 euroa työttömät ja opiskelijat\n\nHSJ tarjoaa syksyn koulutuksiin kaverilippuja henkilöille\, jotka eivät vielä kuulu liittoon. Jos sinulla on Journalistiliiton jäsenaloilla työskentelevä kollega\, ystävä tai tuttava\, jota tämä koulutus voisi kiinnostaa\, vinkkaa tapahtumasta hänelle ja pyydä ilmoittautumaan kaverilipun kautta! Koulutus saattaa innostaa liittymään liittoon. Journalistiliiton jäsensuosittelukampanjan mukaisesti uuden jäsenen rekrytoinnista saa 50 euron arvoisen lahjakortin. Lahjakortin saa kaikista rekrytoiduista jäsenistä paitsi uusista eläkeläis- ja opiskelijajäsenistä. Lue lisää kampanjasta.\nLippu valitaan ilmoittautumisen yhteydessä. Maksua varten tarvitset pankkitunnukset tai puhelimen mobiilipankkisovelluksen.\nHintaan sisältyy ennen koulutusta tarjottava kahvi/tee ja sämpylä.\nHSJ tukee jäsentensä osallistumista maksullisiin koulutuksiin ja tapahtumiin vähintään 40 prosentilla. Muistathan\, että työnantajalta voi tiedustella osallistumista ammatillisen koulutuksen kustannuksiin.\nIlmoittaudu viimeistään 23.10. Myös jonopaikalle kannattaa ilmoittautua.\nTervetuloa!\nJenni Smithin kuva: Iltalehti
LOCATION:Journalistiliitto\, Siltasaarenkatu 18 A, 7. krs\, 00530\,
 Helsinki\, Suomi
URL:http://tapahtuma.hsj.fi/lyhytvideonabc
END:VEVENT
END:VCALENDAR
