BEGIN:VCALENDAR
METHOD:PUBLISH
VERSION:2.0
PRODID:-//Eventilla iCal Syndication//NONSGML Liana//EN
BEGIN:VEVENT
UID:MKkJ3@eventilla.com
DTSTAMP:20250918T140000Z
DTSTART:20250918T140000Z
DTEND:20250918T153000Z
SUMMARY:Arkkitehtuurikävely Vallilassa
DESCRIPTION:Arkkitehtuurikävely Vallilassa\ntorstaina 18.9. kello 17–18.30Roineen puisto\, Roineentie 5\, Helsinki\nTule ulkoilemaan ja tutustumaan kotikaupunkiimme pintaa syvemmältä!\nArkkitehtuurikävelyllä kierrellään 1920-luvulla työväen asuinalueeksi rakennetussa Vallilassa. Minkälaisista tarpeista ja ajan ideaaleista alue sai alkunsa? Millaisia uusia ratkaisuita alueen suunnittelijat pyrkivät kehittämään työväen asuinolojen parantamiseksi? Miksi idyllinen Puu-Vallila ”epäonnistui” suhteessa alkuperäisiin odotuksiin?\nArkkitehtuuri- ja designmuseon kävelykierroksilla tarkastellaan arkkitehtuuria sekä rakennettua ympäristöä historiallisiin ja ajankohtaisiin yhteiskunnallisiin ilmiöihin peilaten. Vallilassa oppaanamme toimii arkkitehti ja kuvataidekasvattaja Lotta Aulamo\, joka on työskennellyt muun muassa kaupunkisuunnittelun parissa.\nKävely alkaa Roineen puistosta (Roineentie 5) ja päättyy viimeiseen kohteeseen Paavalin kirkolle (Sammatintie 5). Kävelyn kesto on noin 1 tunti 30 minuuttia. Opas käyttää mikrofonia kuulemisen helpottamiseksi.\nKuljettavan reitin pituus on yhteensä noin 1\,6 kilometriä. Kävelyn aikana eteneminen on rauhallista ja sisältää useita pysähtymisiä. Reitin varrella ei sijaitse helposti saavutettavia istuimia tai penkkejä. Oman retkituolin voi halutessaan ottaa mukaan. Lähin julkinen esteetön WC sijaitsee Vallilan kirjastolla (Päijänteentie 5).\nKierrokselle mahtuu mukaan 20 HSJ:läistä ja se on jäsenille maksuton.\nIlmoittaudu mukaan viimeistään 14.9. \nLämpimästi tervetuloa!\n \nkuva: Arkkitehtuuri- ja designmuseo\n 
LOCATION:Roineentie 5\, 00550\, Helsinki\, Suomi
URL:http://tapahtuma.hsj.fi/vallila
END:VEVENT
END:VCALENDAR
