BEGIN:VCALENDAR
METHOD:PUBLISH
VERSION:2.0
PRODID:-//Eventilla iCal Syndication//NONSGML Liana//EN
BEGIN:VEVENT
UID:MKoKg@eventilla.com
DTSTAMP:20250424T110000Z
DTSTART:20250424T110000Z
DTEND:20250424T140000Z
SUMMARY:HS Musta laatikko Kansallisteatterissa
DESCRIPTION:HS Musta laatikko Kansallisteatterissa\ntorstaina 24.4. kello 14 alkaenKansallisteatteri\, Vilhonkatu 11\, Helsinki\nTervetuloa nauttimaan elävästä journalismista yhdessä muiden HSJ:läisten kanssa!\nMusta laatikko on ainutlaatuinen elävän journalismin esitys\, joka ottaa katsojan mukaan oivallusten ja tositarinoiden äärelle. Pitkään valmisteltujen ja aiemmin julkaisemattomien tarinoiden kertojina ovat Helsingin Sanomien toimittajat ja kuvaajat.\nJokaisessa illassa tositarinoita kertoo kymmenkunta HS:n journalistia. Esiintyjiä tai aiheita ei paljasteta etukäteen.\n”Erityistä Mustassa laatikossa on se\, että vaikka olemme teatterissa\, kaikki kuultava ja nähtävä on totta. Mustaa laatikkoa tehdään samoilla säännöillä kuin Suomen parasta journalismia”\, sanoo Tuomas Kaseva\, joka on HS:n toimittaja ja yksi esityksen tuottajista.\nElävän journalismin illoissa on käynyt jo yli 60 000 katsojaa. Esitys on palkittu myös Bonnierin journalistipalkinnolla vuoden 2018 journalistisena tekona. \nJärjestyksessään 22. Musta laatikko esitetään Kansallisteatterin suurella näyttämöllä. HSJ on varannut jäsenilleen 30 lippua torstaina 24.4. kello 14 alkavaan päivänäytökseen. Väliajalla juodaan pullakahvit\, ja esityksen jälkeen ensimmäisen parven lämpiössä on HSJ:läisten omat jatkot\, jonne saapuu jututettavaksi myös yksi illan tuottajista.\nHSJ:n tukema jäsenhinta lipulle on 24 euroa (norm. 39\,50). Tarkemmat tiedot saapumisesta ja lipusta saat sähköpostitse. Esityksen kesto on väliaikoineen noin 2 h 30 min.\nIlmoittautuminen alkaa maanantaina 17.3. kello 12 ja päättyy perjantaina 21.3. kello 12.\nTervetuloa!
LOCATION:Kansallisteatteri\, Vilhonkatu 11\, 00100\, Helsinki\, Suomi
URL:http://tapahtuma.hsj.fi/mustalaatikko
END:VEVENT
END:VCALENDAR
