BEGIN:VCALENDAR
METHOD:PUBLISH
VERSION:2.0
PRODID:-//Eventilla iCal Syndication//NONSGML Liana//EN
BEGIN:VEVENT
UID:N4RKa@eventilla.com
DTSTAMP:20201111T150000Z
DTSTART:20201111T150000Z
DTEND:20201111T180000Z
SUMMARY:CV ja työhakemus uusiksi
DESCRIPTION:Millainen CV ja hakemus toimii työmarkkinoilla?\n \nRekrytoijat saavat kymmeniä\, jopa satoja hakemuksia.Miten erottua joukosta ja tuoda oma osaaminen napakasti esiin? Kurssillamme päivitetään työnhaun tiedot ja taidot. \n \nKeskiviikkona 11.11. klo 17 - 20\nSokos Hotelli Presidentti\, Eteläinen Rautatiekatu 4\, 00100 Helsinki\n \nHaetko uutta työtä media-alalta vai suunniteletko alanvaihtoa? Tiedätkö\, millaisia työnhaun dokumentit ovat nykyään ulkoasultaan?\nKoulutuksessa opit\, mitä työnantajat edellyttävät hakemukselta ja saat vinkkejä moderneista mallipohjista.Keskiössä on myös oman osaamisen esille tuominen ja saavutustesi konseptointi. Koulutuksen tavoitteena on\, että sinulla on jatkossa varma olo hakea osaamistasi vastaavaa työtä. \n\nKurssin kouluttajana toimii HEO Kansanpiston radio- ja TV-journalismin opettaja Hanna Iittala. Häneltä on mahdollista tilata myös yhden tunnin mittainen henkilökohtainen valmennus kurssilla tehdyn CV:n ja työhakemuksen viimeistelemiseksi.\n \nKurssilla käsitellään mm.:\n\nMillainen ansioluettelo ja hakemus media-alalla toimii?\nMitä hakemuksessa kannattaa tuoda esiin\, mitkä asiat kuuluvat ansioluetteloon? Mitä kannattaa jättää pois?\nMiten töitä haetaan? Missä työpaikat ovat\, ja miten niitä löytää?\nKannattaako sosiaalisessa mediassa kertoa hakevansa töitä?\nOman osaamisen konseptointi\nMillä erottua muista hakijoista?\nKannattaako tehdä omat kotisivut?\nLyhyt katsaus siihen\, miten työnhakuvideo kuvataan\, mitä siinä kannattaa kertoa ja kuinka pitkä sen tulee olla.\n\nLataa hyvissä ajoin ennen kurssia valmiiksi tietokoneellesi: \n\nviimeisin CV ja työhakemus\, jos ne ovat vuotta vanhempia täydennä ja tee uudet\nuusi kasvolähikuva \nmahdollinen työpaikkailmoitus (mihin haluat hakea)\ntyönäytteitä kuten artikkeleita\, ääninäytteitä\, videoita\, valokuvia\, piirroksia tms.\nideoi 3-5 henkilön nimet mahdollisiksi suosittelijoiksi\n\nOta läppärisi mukaan koulutukseen.\nKurssille mahtuu 40 henkilöä.\nKurssin hinta on 25 euroa.Työttömät ja opiskelijat 10 euroa.\nBONUS: Jos haluat\, voit saada myös henkilökohtaisen valmennuksen. Henkilökohtainen valmennus kestää tunnin\, ja se maksaa 50 euroa\, työttömille ja opiskelijoille 25 euroa.\nHenkilökohtaiseen valmennukseen voit ilmoittautua valitsemalla vaihtoehdon ilmoittautumislomakkeen lopussa.Kurssimaksu ja mahdollinen henkilökohtainen valmennus on maksettava ilmoittautumisen yhteydessä. Henkilökohtaisen valmennuksen ajankohdan sovit erikseen kouluttajan kanssa.JOS maksuvaiheessa tulee ongelmia ja ilmoittautuminen keskeytyy\, ilmoita asiasta toimistoontuula@hsj.fi tai jaana.virtanen@hsj.fi.Saat paluupostissa linkin\, josta pääset jatkamaan ilmoittautumisen ja maksamisen loppuun.  
LOCATION:Sokos Hotelli Presidentti\, Eteläinen Rautatiekatu 4\, 00100\,
 Helsinki
URL:http://tapahtuma.hsj.fi/event/N4RKa
END:VEVENT
END:VCALENDAR
