BEGIN:VCALENDAR
METHOD:PUBLISH
VERSION:2.0
PRODID:-//Eventilla iCal Syndication//NONSGML Liana//EN
BEGIN:VEVENT
UID:N4Rpw@eventilla.com
DTSTAMP:20190326T150000Z
DTSTART:20190326T150000Z
DTEND:20190326T170000Z
SUMMARY:Syötävän hyvät pääsiäisyrtit!
DESCRIPTION:HSJ HARRASTAA!\nSyötävän hyvät pääsiäisruohot \n\ntiistaina 26.3. kello 17 – 19\n\nHotelli Presidentissä\, Eteläinen Rautatiekatu 4\, Helsinki.\nPääsiäisruohon kasvattaminen on kivaa keväistä puuhaa. Rairuohothan me jo tunnemma\, mutta mitäpä jos kasvattaisimme pääsiäiseksi oikean yrttitarhan. Siitä olisi iloa niin silmille kuin makunystyröille - ja pidemmäksi aikaa.\nSoveltuuko mäkimeirami muuhunkin kuin pizzaan\, meneekö minttu rosmariinia paremmin lampaan seuraksi ja sitruunamelissa pastaan tai taipuuko timjami uunijuureksiin?Pienoisviljelmien ja yrttien maailmaan meidät vie hortonomi Kirsi Tuominen.\nEntäpä pääsiäiskukat? Voisiko vaikkapa narsisseista saada iloa moneksi vuodeksi?Kirsin nikseillä sekin on mahdollista.\nTervetuloa HSJ:n viherpeukaloiden pääsiäisen valmisteluiltaan!Hinta: kurssi on osanottajille maksuton.Ilmoittaudu!
LOCATION:Hotelli Presidentti\, Eteläinen Rautatiekatu 4\, 00100\,
 Helsinki
URL:http://tapahtuma.hsj.fi/event/N4Rpw
END:VEVENT
END:VCALENDAR
