BEGIN:VCALENDAR
METHOD:PUBLISH
VERSION:2.0
PRODID:-//Eventilla iCal Syndication//NONSGML Liana//EN
BEGIN:VEVENT
UID:NPdp6@eventilla.com
DTSTAMP:20250116T150000Z
DTSTART:20250116T150000Z
DTEND:20250116T173000Z
SUMMARY:Potkut tuli - miten eteenpäin?
DESCRIPTION:Potkut tuli – miten eteenpäin?Yksi tarina irtisanomisesta.\ntorstaina 16.1. kello 17–19.30Journalistiliiton toimisto Ympyrätalolla\, Siltasaarenkatu 18 A 7. krs\, Helsinki\nMitä tapahtuu\, kun työsuhde katkeaa irtisanomiseen? Miten potkut vaikuttavat identiteettiin? Millaista on työttömyyden byrokratia? Mistä löytyy uusia töitä - ja entä jos niitä ei löydykään?\nJournalistista alaa pyyhkii nyt ennennäkemätön muutosneuvotteluiden aalto. Epävarmojen tulevaisuudennäkymien keskellä ei kuitenkaan tarvitse olla yksin. Tule kuulemaan yksi vertaistarina irtisanomisesta ja saamaan kokemusasiantuntijan vinkit elämänmuutoksen kohtaamiseen. Ilta tarjoaa myös mahdollisuuden kysyä\, keskustella ja jakaa kokemuksia. Mukaan ovat tervetulleita niin työsuhteiset\, työttömät kuin freelanceritkin.\nVieraanamme on toimittaja ja työnohjaaja Marja Aaltio\, joka tuli irtisanotuksi Aamulehdestä 30 vuoden työuran jälkeen. Hän jakaa oman kokemuksensa potkuista ja niiden seurauksista. Realistisen näkökulman lisäksi tarjolla on toivon pilkahduksia – elämä jatkuu myös irtisanomisen jälkeen.\nPuheenvuoron päätteeksi on aikaa kysymyksille ja keskustelulle. Kysymyksiä kannattaa esittää jo ilmoittautumisen yhteydessä\, jotta niihin ehditään valmistautua. Ilta päätetään lyhyeen työnohjaushetkeen. Aaltio tarjoaa mahdollisuuden osallistua henkilökohtaiseen pohdintatehtävään\, jonka tarkoituksena on auttaa näkemään oma osaaminen uusin silmin.\nIlmoittaudu mukaan viimeistään 14.1. Tilaisuus on maksuton ja mukaan ovat tervetulleita kaikki HSJ:n jäsenet taustasta ja tilanteesta riippumatta. Tarjolla on kahvia\, teetä ja pientä iltapalaa.\n\nMarja Aaltio on työskennellyt toimittajana Aamulehdessä\, Yleisradiossa sekä paikallis- ja maakuntalehdissä. Hän tekee erilaisia kirjoitustöitä sisällöntuotannosta lehtijuttuihin\, ja on ollut mukana perustamassa kulttuuritoimitus.fi -sivustoa. Toimittajan työn ohella Aaltio on kouluttautunut ratkaisukeskeiseksi työnohjaajaksi.\nLämpimästi tervetuloa!\nPERUUTUSEHDOT:\n\nTapahtuma on osallistujille maksuton\, mutta esteen sattuessa muistathan perua ilmoittautumisesi mahdollisimman nopeasti.\n14.1. jälkeen tehtynä peruutuksesta tai ilmoittamatta poisjäännistä peritään 15 euron maksu (poikkeuksena sairaustodistus)\, ellei tilalle ehditä saada toista osallistujaa.\nJos joudut perumaan osallistumisesi\, tee se ilmoittautumisvahvistuksen kautta. Sen saat sähköpostitse ilmoittautumisen yhteydessä. Lähetä peruutuksesta tieto myös HSJ:n toimistoon: laura.vuoma@hsj.fi\n
LOCATION:Journalistiliiton toimisto, Ympyrätalo\, Siltasaarenkatu 18 A 7
 krs.\, 00530\, Helsinki\, Suomi
URL:http://tapahtuma.hsj.fi/potkuttuli
END:VEVENT
END:VCALENDAR
