BEGIN:VCALENDAR
METHOD:PUBLISH
VERSION:2.0
PRODID:-//Eventilla iCal Syndication//NONSGML Liana//EN
BEGIN:VEVENT
UID:OlRQ4@eventilla.com
DTSTAMP:20220405T140000Z
DTSTART:20220405T140000Z
DTEND:20220405T183000Z
SUMMARY:Once
DESCRIPTION:Once\ntiistaina 5.4. Lilla Teaternissa\nTaiteilijatapaaminen kello 17\, esitys kello 19\nEsityksen kesto n. 2\,5 h (sis. väliajan)\nLIPUT TULEVAT MYYNTIIN TÄLLÄ SIVULLA MAANANTAINA 28.2. KELLO 10\nOnce on monin kerroin palkittu Dubliniin sijoittuva tarina katumuusikon ja tshekkiläisen maahanmuuttajan kohtaamisesta. Enda Walshin kirjoittama musikaali perustuu John Carneyn rakastettuun elokuvaan Once (2007). Musiikin molempiin ovat kirjoittaneet elokuvassa esiintyneet Glen Hansard and Markéta Irglová.\nLilla Teaternissa nähtiin viime syksynä kiitetty Oncen ruotsinkielinen tuotanto\, johon emme valitettavasti saaneet lippuja. Nyt Once palaa teatterin lavalle suomenkielisenä tuotantona. Ohjaus ja koreografia ovat nytkin Jakob Höglundin. Pääosissa nähdään Tuukka Leppänen ja Emma Klingenberg.\nHSJ:n jäsenille on järjestetty tapaaminen Höglundin ja Leppäsen kanssa kello 17 alkaen. Tule keskustelemaan esityksestä ja sen monipolvisesta luomisprosessista korona-aikana.\n\nHSJ on varannut esitykseen yhteenä 20 kpl ryhmälippuja.\nHSJ:n tukeman lipun hinta on 25 euroa. Jäsenyys tarkistetaan toimistolla. (Peruslipun hinta on 54 euroa\, eläkeläisiltä 51 euroa\, opiskelijat 27 euroa.)\nMaksua varten tarvitset pankkitunnukset tai puhelimen mobiilipankkisovelluksen.\nSaat tarkemmat tiedot saapumisesta ja lipusta hyvissä ajoin ennen esitystä.\nOsallistuthan esitykseen vain terveenä. Tarkemmat koronaturvallisuuteen liittyvät ohjeet annetaan ennen esitystä.\n\nTervetuloa!\nHSJ tukee jäsentensä osallistumista maksullisiin koulutuksiin ja tapahtumiin vähintään 40 prosentilla.
LOCATION:Lilla Teatern\, Yrjönkatu 30\, 00100\, Helsinki
URL:http://tapahtuma.hsj.fi/event/OlRQ4
END:VEVENT
END:VCALENDAR
