BEGIN:VCALENDAR
METHOD:PUBLISH
VERSION:2.0
PRODID:-//Eventilla iCal Syndication//NONSGML Liana//EN
BEGIN:VEVENT
UID:OlRQY@eventilla.com
DTSTAMP:20220907T140000Z
DTSTART:20220907T140000Z
DTEND:20220907T170000Z
SUMMARY:Typografian uudet tuulet
DESCRIPTION:Typografian uudet tuulet\nkeskiviikkona 7.9. klo 17–20Mäki-sali\, Hotel Arthur\, Vuorikatu 19\, Helsinki\nMediat ovat siirtyneet digitaaliselle alustalle\, mutta typografian merkitys ei ole vähentynyt\, päinvastoin. Tällä hetkellä fontteja suunnitellaan enemmän kuin koskaan. Fontteja on myös helppo hankkia ja niiden hinta- ja laatu vaihtelevat paljon. \nIlmoittaudu mukaan koulutukseen\, jossa avataan:\n\nMiten ajan henki näyttäytyy typografiassa\nVoiko media - printti ja digitaalinen - hyödyntää typografiaa muutenkin kuin informaation välittäjänä\nKuinka typografia välittää tunnetta johonkin viiteryhmään kuulumisesta\nKuinka digitaalinen kehitys on vaikuttanut typografiaan\n\nTypografian uudet tuulet -luento jakaantuu kahteen osaan.\nEnsimmäisessä osiossa kysytään\, vastataan\, haastetaan ja keskustellaan kirjaintyyppien merkityksestä erityisesti aikakausmediassa. Luento sisältää runsaasti kuvamateriaalia ja inspiroivia uusia tekstityyppejä sekä vinkkejä\, mistä niitä voi löytää.\nToisessa osiossa ristipistellään tuoreita suomalaisia fontteja aida-kankaalle. Menetelmä on helppo\, neulassa on pyöreä kärki ja fontit on mallinnettu ruudukolle\, josta ne voi helposti siirtää kankaalle. Kysymyksessä ei ole perinteinen käsityötunti; lopputuloksesta ei anneta arvosanaa\, tarkoitus on nauttia. Tarvikkeet sisältyvät kurssimaksuun.\nKouluttajinamme toimivat kokenut ja palkittu graafikko Tuija Tarkiainen (Studio Kiss) ja typograafikko Eino Korkala.\n Tuija Tarkiaisen kuvasi Antti Rintala\nTuija on helsinkiläinen AD ja graafinen muotoilija\, jolla on pitkä ura aikakaus- ja asiakaslehdissä. Hän on yksi typografiaa ja muotoilua yhdistävän TypoCraftHelsinki -tapahtuman perustajista. \n Eino Korkalan kuvasi Otto Virtanen\nToinen kouluttajamme on tunnettu typograafikko Eino Korkala\, joka sanoo olevansa varma siitä\, että tekstin sisältöä tärkeämpää on sen muotoilu. Korkala on opiskellut kirjainmuotoilua Haagin The Royal Academy of Artissa ja työskentelee tällä hetkellä Afrikan kielten merkistötutkimuksen parissa.\nTämä koulutus on maksullinen:\n\n 30 euroa työsuhteiset\, freelancerit\, eläkeläiset\n 10 euroa työttömät ja opiskelijat\n\nLippu valitaan ilmoittautumisen yhteydessä. Maksua varten tarvitset pankkitunnukset tai puhelimen mobiilipankkisovelluksen. Koulutukseen saavat osallistua Journalistiliiton jäsenet.\nMuistathan\, että työnantajalta voi tiedustella osallistumista ammatillisen koulutuksen kustannuksiin.\nKoulutuspaikka: Hotel Arthur sijaitsee aivan Helsingin ydinkeskustassa Vuorikatu 19:ssa. Mäki-sali sijaitsee hotellin kokoussiivessä\, jonne on erillinen kulku (ovi hotellin pääaulasta oikealle - huom. ei vasemmalle\, kuten tekstissä ensin ohjeistettiin). Mäki-saliin kuljetaan rappuset ylös kokousaulasta.\nKoronaohjeet: Tiedotamme Hotel Arthurin antamista mahdollisista koronaohjeista ilmoittautuneille. Jos koronatilanne muuttuu\, valmistaudumme pitämään tilaisuuden etänä tai siirtämään sen sopivaan ajankohtaan.\nTervetuloa!
LOCATION:Hotelli Arthur\, Vuorikatu 19\, 00100\, Helsinki
URL:http://tapahtuma.hsj.fi/event/OlRQY
END:VEVENT
END:VCALENDAR
