BEGIN:VCALENDAR
METHOD:PUBLISH
VERSION:2.0
PRODID:-//Eventilla iCal Syndication//NONSGML Liana//EN
BEGIN:VEVENT
UID:PPRXB@eventilla.com
DTSTAMP:20210322T150000Z
DTSTART:20210322T150000Z
DTEND:20210322T163000Z
SUMMARY:Kirjailijakohtaaminen: Kari Hotakainen (HSJ Facebook Live Stream)
DESCRIPTION:HSJ:n kirjailijakohtaamisessa \nKari Hotakainen\nmaanantaina 22.3. kello 17.00–18.30\nLIVE STREAM: https://www.facebook.com/hsj.fi\nHSJ:n lukupiiri on toiminut pandemia-ajan etänä verkossa\, ja siksi myös kirjailijaillat striimataan yhdistyksen Facebook-sivujen kautta.\n \nKevään vieraana on kirjailija Kari Hotakainen (s. 1957)\, jonka viimeisin teos on romaani Tarina (2020). Sitä edeltäväkin tuotanto on pitkä ja komea: runoilijana 1982 debytoinut\, runsaasti palkittu Hotakainen on kirjoittanut niin aikuisille kuin lapsille\, sekä lyriikkaa että proosaa\, tietokirjallisuuttakin.\nFinlandia-palkittu romaani Juoksuhaudantie (2003) on jo osa kansalliskirjallisuuttamme\, ja F1-kuljettajan elämäkerrasta Tuntematon Kimi Räikkönen (2018) tuli Suomen myydyin urheilukirja ikinä.\nTarina-romaanissa esillä on samoja suuria asioita kuin Hotakaisen romaaneissa usein: elämän tarkoitusta\, suomalaista yhteiskuntaa\, kirjallisuuden merkitystä. Itse hän on kertonut käsittelevänsä siinä omaakin elämäänsä:\n”Varmaan Tarinassa jollain lailla tiedostamattani tapahtui niin\, että se koko matka maalaisesta kaupunkilaiseksi\, minkä olen itse tehnyt\, tuli käsitellyksi surrealistisilla kärjistyksillä”\, hän kertoi haastattelussa viime syksynä.\nSiitä ja muustakin Hotakaisen tuotannosta keskustelee kirjailijan kanssa Helsingin Sanomien kulttuuritoimittaja Suvi Ahola.\nYleisö saa esittää kirjailijalle ennakkokysymyksiä ja myös osallistua keskusteluun chatin kautta.\nTervetuloa!
LOCATION:https://www.facebook.com/hsj.fi/
URL:http://tapahtuma.hsj.fi/event/PPRXB
END:VEVENT
END:VCALENDAR
