BEGIN:VCALENDAR
METHOD:PUBLISH
VERSION:2.0
PRODID:-//Eventilla iCal Syndication//NONSGML Liana//EN
BEGIN:VEVENT
UID:PPRlB@eventilla.com
DTSTAMP:20220112T150000Z
DTSTART:20220112T150000Z
DTEND:20220112T170000Z
SUMMARY:Ongelmana anglismit
DESCRIPTION:Mitä mieltä boomereista ja eeppisestä pentulivestä?\nOngelmana anglismit\nVerkkokurssi keskiviikkona 12.1.2022 klo 17-19\nHuomio! Huonontuneen koronatilanteen vuoksi kurssi järjestetään etänä Teamsissa. Näin osallistuminen on turvallista kaikille. Linkki lähetetään osallistujille lähempänä koulutuspäivää. Ilmoittautuminen on avoinna 10.1. kello 23.59 saakka.\nBoomer vai boomeri? Jet lag vai jetlag? Nice vai Nizza? Koutsata vai valmentaa? Chatissa vai chatissä? Hyvä kuppi kahvia vai kuppi hyvää kahvia?\nToimittaja\, kustannustoimittaja\, tuottaja\, editori\, viestijä ja somettaja: joudutko kääntämään nopsassa tahdissa käyttämiesi englanninkielisten lähteiden ja englantia puhuvien haastateltavien kielen suomeksi? Koulutuksessamme voit oppia\, miten vältät sudenkuopat ja kirjoitat tai puhut hyvää suomen yleiskieltä\, vaikka taustatyö olisi tehty pääosin englanniksi.\nKoulutuksessa keskustellaan englannin vaikutteista\, jotka ovat yleisiä tai ovat yleistymässä varsinkin kirjoitetussa suomessa. Tarkasteluun otetaan monipuolisesti erityyppisiä sanaston\, muoto- ja lauserakenteen ja oikeinkirjoituksen piirteitä: mikä toimii ja mikä ei? Ratkaisuvaihtoehtoja pohditaan myös yhdessä. Ennalta kouluttajalle lähetetyt kysymykset vaikuttavat koulutuksen sisältöihin. \nKouluttajana toimii Kotimaisten kielten keskuksen kielenhuolto-osaston erityisasiantuntija Riitta Korhonen.\nKoulutus kestää 2 x 45 minuuttia\, ja opetuksen jälkeen on varattu aikaa mahdollisille lisäkysymyksille.\nTilaisuuteen otetaan 40 osallistujaa. Jos kurssi täyttyy ja jonottajia tulee riittävästi\, koulutus voidaan uusia.\nTämä koulutus on maksullinen:\n\n 25 euroa työsuhteiset\, freelancerit\, eläkeläiset\n 10 euroa työttömät ja opiskelijat\n\nLippu valitaan ilmoittautumisen yhteydessä. Maksua varten tarvitset pankkitunnukset tai puhelimen mobiilipankkisovelluksen.\nHSJ tukee jäsentensä osallistumista maksullisiin koulutuksiin ja tapahtumiin vähintään 40 prosentilla. Muistathan\, että työnantajalta voi tiedustella osallistumista ammatillisen koulutuksen kustannuksiin.\nTervetuloa!
LOCATION:Teams
URL:http://tapahtuma.hsj.fi/event/PPRlB
END:VEVENT
END:VCALENDAR
