BEGIN:VCALENDAR
METHOD:PUBLISH
VERSION:2.0
PRODID:-//Eventilla iCal Syndication//NONSGML Liana//EN
BEGIN:VEVENT
UID:PoED4@eventilla.com
DTSTAMP:20251126T150000Z
DTSTART:20251126T150000Z
DTEND:20251126T180000Z
SUMMARY:Faktantarkistuksen perusteet kustannustoimittajalle
DESCRIPTION:Faktantarkistuksen perusteet kustannustoimittajalle\nkeskiviikkona 26.11. kello 17–20Journalistiliiton toimisto\, Ympyrätalo\, Siltasaarenkatu 18 A\, 7. krs\, Helsinki\nTietokirjojen faktavirheistä nousee ajoittain keskustelua ja joskus jopa kohuja. Faktantarkistuksen avulla on helpompi pitää kokonaisuus kasassa ja turvata samalla sekä kirjailijan että kustantamon selusta.\nTule selvittämään\, mitä mitä kaikkea faktantarkistus voi olla ja miten taitoja voi soveltaa kustannustoimittajan työssä! Illan aikana opitaan muun muassa tarkentamaan ja syventämään tiedonhakua\, etsimään verkosta kadonneita tietoja ja tarkistamaan kuvien aitoutta.\nKouluttajana toimii kokenut faktantarkistuksen ammattilainen\, Ylen verifiointitiimissä työskentelevä mis- ja disinformaatioon erikoistunut toimittaja Johanna Vehkoo. Hän on kirjoittanut viisi tietokirjaa\, muun muassa kunnianloukkausoikeuskäynnistä kertovan Oikeusjutun (Kosmos 2023) sekä Valheenpaljastajan käsikirjan (Kosmos 2019). Tänä vuonna häneltä ilmestyi vanhemmuutta käsittelevä\, Emmi Niemen kuvittama sarjakuvaromaani Syntymän ja kuoleman kirja (Suuri Kurpitsa). Johanna Vehkoo kuuluu verkkojulkaisu Long Playn perustajiin ja hän on toiminut myös Tampereen yliopiston journalistiikan työelämäprofessorina.\nKoulutus koostuu luennosta ja harjoitustehtävistä\, joita varten tarvitset mukaasi oman kannettavan tietokoneen. Osallistuminen ei edellytä aiempaa kokemusta faktantarkistuksesta. Sisältö on suunnattu ennen kaikkea tietokirjallisuuden kustannustoimittajille\, mutta kaikki HSJ:n kustannusalalla työskentelevät jäsenet ovat tervetulleita. Mukaan mahtuu 20 osallistujaa.\nOpi tunnistamaan mahdolliset vaaranpaikat ja ajattelemaan kuin faktantarkistaja!\nIlmoittaudu mukaan viimeistään 20.11.\nTämä koulutus on maksullinen:\n\n 30 euroa työsuhteiset\, freelancerit\, eläkeläiset\n 15 euroa työttömät ja opiskelijat\n\nLippu valitaan ilmoittautumisen yhteydessä. Maksua varten tarvitset pankkitunnukset tai puhelimen mobiilipankkisovelluksen.\nHintaan sisältyy ennen koulutusta tarjottava kahvi/tee ja sämpylä.\nHSJ tukee jäsentensä osallistumista maksullisiin koulutuksiin ja tapahtumiin vähintään 40 prosentilla. Muistathan\, että työnantajalta voi tiedustella osallistumista ammatillisen koulutuksen kustannuksiin.\nLämpimästi tervetuloa!\nJohanna Vehkoon kuva: Antti Yrjönen
LOCATION:Journalistiliitto\, Siltasaarenkatu 18 A, 7. krs\, 00530\,
 Helsinki
URL:http://tapahtuma.hsj.fi/faktantarkistus
END:VEVENT
END:VCALENDAR
