BEGIN:VCALENDAR
METHOD:PUBLISH
VERSION:2.0
PRODID:-//Eventilla iCal Syndication//NONSGML Liana//EN
BEGIN:VEVENT
UID:Q2R12@eventilla.com
DTSTAMP:20210324T150000Z
DTSTART:20210324T150000Z
DTEND:20210324T180000Z
SUMMARY:Pitch! Innosta ja tiivistä
DESCRIPTION:Opi esittämään ideasi tehokkaasti\nTiivistä ja innosta pitchaamalla!\nKe 24.3. klo 17-20 Teams-webinaari\nOlitpa sitten journalisti\, viestijä\, kustannustoimittaja\, valokuvaaja\, graafikko tai muu journalistinen tekijä\, pitchaustaidot ovat työelämän kallista valuuttaa ja niistä on syytä pitää huolta. \nJos muuten niin kerkeä kieli kangistuu\, kun pitäisi kertoa omasta ideasta tai sanoa mielipiteensä käsillä olevaan asiaan\, nyt voit opetella turvallisessa seurassa muiden hsj-läisten kanssa esittelemään omia luovia ideoitasi. Opit myös esiintymään työelämän erilaisissa tilanteissa.\nPitchaus-koulutuksen tavoitteena on\, että osaat tiivistää ja innostaa kuulijoitasi lyhyessäkin puheenvuorossa. Illan aikana kuulemme muutamia hyviä pitchejä osallistujilta.\nKouluttajanamme on esiintymis- ja pitchausvalmentaja Elsa Ervasti (FM\, TeM).\n\nElsa Ervasti on kirjoittanut yhdessä journalisti Joonas Turusen kanssa kirjan Pitch!-innostavan tiivistämisen taito (S&S\, 2020). Elsa on valmentanut satoja startup-yrittäjiä pitchaamisessa mm. Slushissa.\n \nKoulutuksen sisältö:\n\nMiten voi tuoda luontevasti esiin omaa asiantuntemustaan?\nMillanen pitchin rakenne auttaa jäsentämään omaa osaamista?\nMiten pitchata omia juttuideoita ja muita luovia ideoita?\nMikä on esiintymistaidon merkitys oman osaamisen esittelyssä?\nPitchaus-harjoituksia\nEnnakkotehtävä\, johon saat ohjeet etukäteen. \n\n \nIlmoittaudu mukaan!
LOCATION:Teams-webinaari
URL:http://tapahtuma.hsj.fi/event/Q2R12
END:VEVENT
END:VCALENDAR
