BEGIN:VCALENDAR
METHOD:PUBLISH
VERSION:2.0
PRODID:-//Eventilla iCal Syndication//NONSGML Liana//EN
BEGIN:VEVENT
UID:Q2R72@eventilla.com
DTSTAMP:20220201T220000Z
DTSTART:20220201T220000Z
DTEND:20220201T220000Z
SUMMARY:Magazine Symposium 2022
DESCRIPTION:(Teksti jäsenkirjeestä)\nMagazine Symposium 2022\nUusilla ideoilla tulevaisuuteen\nwebinaari keskiviikkona 2.2. kello 9–11.30\nMagazine Symposium kokoaa jälleen yhteen aikauslehtien ammattilaiset ja alan opiskelijat. Teemallisesti tällä kertaa katsotaan alan tulevaisuuteen\, tuleviin tekijöihin ja sisällön ideointiin.\nReetta Räty puhuu nuorten toimittajien mukaan ottamisen tärkeydestä työyhteisöissä\, Maija Koski peräänkuuluttaa vastuullisuutta lifestyle-journalismissa ja kuvittajat Satu Kettunen ja Tuomas Kärkkäinen avaavat kuvittajan ideointiprosessia. Aikakauslehtialan omassa aamupäivässä on luvassa myös paljon muuta mielenkiintoista. Tutustu ohjelmaan ilmoittautumissivulla. Webinaari on maksuton.\nMagazine Symposiumia järjestävät Aikausmedia\, Aikauslehtien Päätoimittajat ja Helsingin Seudun Journalistit.
LOCATION:Teams
URL:http://tapahtuma.hsj.fi/event/Q2R72
END:VEVENT
END:VCALENDAR
