BEGIN:VCALENDAR
METHOD:PUBLISH
VERSION:2.0
PRODID:-//Eventilla iCal Syndication//NONSGML Liana//EN
BEGIN:VEVENT
UID:QVdMy@eventilla.com
DTSTAMP:20260122T150000Z
DTSTART:20260122T150000Z
DTEND:20260122T180000Z
SUMMARY:Lyhytvideon työpaja
DESCRIPTION:Toivekoulutus:Lyhytvideon työpaja\ntorstaina 22.1. klo 17–20Journalistiliiton toimisto\, Ympyrätalo\, Siltasaarenkatu 18 A\, 7. krs\, Helsinki\nTämä koulutus on jatkoa vuonna 2025 järjestetyille Lyhytvideon ABC -kursseille. Voit osallistua koulutukseen\, jos sinulla on jonkin verran aiempaa kokemusta lyhytvideoiden kuvaamisesta ja editoinnista.\nEnsimmäiset lyhytvideot on nyt julkaistu eetteriin\, mutta lopputulos näyttää vähän kömpelöltä. Missä vika? Miten sisällöstä saisi entistä tiiviimmän ja vetävämmän? Millaisia kikkoja editoinnissa voisi vielä hyödyntää?\nTervetuloa lyhytvideon työpajaan jatkamaan harjoittelua! Koulutuksen aluksi saat ammattilaisen palautetta aiemmin kuvaamastasi lyhytvideosta. Sen jälkeen pääset treenaamaan kuvaamista\, äänittämistä ja editointia uusien tehtävänantojen parissa. \nKouluttajana toimii vanha tuttu\, Iltalehden sosiaalisen median tuottaja Jenni Smith. Hän vetää palkittua IL-palat-tiimiä\, joka tuottaa lyhyitä pystyvideoita sekä Iltalehden omalle sivustolle että sosiaaliseen mediaan.\nMitä tarvitset?\nTyöpajamuotoisen koulutuksen painopiste on itsenäisessä työskentelyssä\, jota alan ammattilainen ohjaa. Osallistuminen edellyttää jonkin verran aiempaa kokemusta videokuvaamisesta tai editoinnista.\nMuutamaa päivää ennen koulutuksen alkua pyydämme sinua lähettämään yhden esimerkin aiemmin kuvaamastasi lyhytvideosta\, josta sinulla on mahdollisuus saada kouluttajan palaute.\nKoulutukseen tarvitset mukaan oman älypuhelimen sekä riittävästi akkua ja tallennustilaa videoiden kuvaamiseen. Editointiin käytämme näitä ilmaisia puhelinsovelluksia: Instagram ja Capcut. Lataa sovellukset ja kokeile niiden käyttöä jo ennen koulutusta\, niin pääset heti kiinni harjoituksiin. \nTyöpajan jälkeen osaat kuvata\, editoida ja julkaista vetävän lyhytvideon. Hahmotat myös entistä paremmin\, millainen sisältö toimii somessa.\nOsallistuminen\nKoulutukseen mahtuu mukaan 20 HSJ:läistä ja se on maksullinen:\n\n 30 euroa työsuhteiset\, freelancerit\, eläkeläiset\n 15 euroa työttömät ja opiskelijat\n\nLippu valitaan ilmoittautumisen yhteydessä. Maksua varten tarvitset pankkitunnukset tai puhelimen mobiilipankkisovelluksen.\nHintaan sisältyy ennen koulutusta tarjottava kahvi/tee ja sämpylä.\nHSJ tukee jäsentensä osallistumista maksullisiin koulutuksiin ja tapahtumiin vähintään 40 prosentilla. Muistathan\, että työnantajalta voi tiedustella osallistumista ammatillisen koulutuksen kustannuksiin.\nIlmoittaudu viimeistään 18.1. Myös jonopaikalle kannattaa ilmoittautua.\nLämpimästi tervetuloa!\nJenni Smithin kuva: Iltalehti
LOCATION:Journalistiliitto\, Siltasaarenkatu 18 A, 7. krs\, 00530\,
 Helsinki\, Suomi
URL:http://tapahtuma.hsj.fi/lyhytvideontyopaja
END:VEVENT
END:VCALENDAR
