BEGIN:VCALENDAR
METHOD:PUBLISH
VERSION:2.0
PRODID:-//Eventilla iCal Syndication//NONSGML Liana//EN
BEGIN:VEVENT
UID:QVg5K@eventilla.com
DTSTAMP:20251009T140000Z
DTSTART:20251009T140000Z
DTEND:20251009T160000Z
SUMMARY:Tuloslaskelman ja taseen perusteet journalistille
DESCRIPTION:Tuloslaskelman ja taseen perusteet journalistille\ntorstaina 9.10. kello 17–19Journalistiliiton toimisto\, Ympyrätalo\, Siltasaarenkatu 18 A\, 7. krs\, Helsinki\nMitä eroa on käyttökatteella ja liikevoitolla? Mistä tietää\, paljonko yrityksellä on velkaa? Entä miten voi huomata\, että yritys on talousvaikeuksissa?\nTule ottamaan haltuun tuloslaskelman ja taseen perusteet! Illan aikana opetellaan lukemaan tilinpäätöksiä ja tulkitsemaan yritysten taloustietoja. Tarkastelemme\, mitä luvut kertovat muun muassa toiminnan laajuudesta ja kannattavuudesta\, ja opimme tulkitsemaan varallisuustilannetta esimerkiksi oman ja vieraan pääoman näkökulmasta.\nOsallistujat voivat tehdä jo ennakkoon ehdotuksia firmoista\, joiden tilinpäätöksiä koulutuksessa tarkastellaan.\nTuloslaskelmien saloihin meidät johdattaa HS Vision taloustoimittaja Alex Af Heurlin\, joka on kouluttanut aiheesta myös kollegoitaan Helsingin Sanomissa. Af Heurlin on työskennellyt aiemmin muun muassa Kauppalehdessä ja Arvopaperissa.\nKoulutuksen jälkeen hallitset tuloslaskelman ja taseen perusperiaatteet ja pystyt hyödyntämään yritysten tilinpäätöksiä osana journalistista työtä. Tilinpäätösten tulkinta voi auttaa esimerkiksi taustatietojen hankinnassa tai juttuvinkkien tarkistuksessa. \nOsallistuminen ei edellytä aiempaa kokemusta talousaiheista tai tilinpäätösten tulkinnasta. Koulutus on suunnattu journalistista työtä tekeville\, mutta kaikki HSJ:n jäsenet ovat tervetulleita. Mukaan mahtuu 30 osallistujaa.\nTämä koulutus on maksullinen:\n\n 30 euroa työsuhteiset\, freelancerit\, eläkeläiset\n 15 euroa työttömät ja opiskelijat\n\nLippu valitaan ilmoittautumisen yhteydessä. Maksua varten tarvitset pankkitunnukset tai puhelimen mobiilipankkisovelluksen.\nHintaan sisältyy ennen koulutusta tarjottava kahvi/tee ja sämpylä.\nHSJ tukee jäsentensä osallistumista maksullisiin koulutuksiin ja tapahtumiin vähintään 40 prosentilla. Muistathan\, että työnantajalta voi tiedustella osallistumista ammatillisen koulutuksen kustannuksiin.\nIlmoittaudu viimeistään 2.10. Tervetuloa!\n \n 
LOCATION:Journalistiliitto\, Siltasaarenkatu 18 A, 7. krs\, 00530\,
 Helsinki
URL:http://tapahtuma.hsj.fi/tuloslaskelmajatase
END:VEVENT
END:VCALENDAR
