BEGIN:VCALENDAR
METHOD:PUBLISH
VERSION:2.0
PRODID:-//Eventilla iCal Syndication//NONSGML Liana//EN
BEGIN:VEVENT
UID:R1B5r@eventilla.com
DTSTAMP:20240307T140000Z
DTSTART:20240307T140000Z
DTEND:20240307T153000Z
SUMMARY:Vierailu Ulkopoliittiseen instituuttiin
DESCRIPTION:Vierailu Ulkopoliittiseen instituuttiin\ntorstaina 7.3. klo 16.00–17:30Arkadiankatu 23 B\, 5. krs\, Helsinki\nUlkopoliittisen instituutin nimi on mediasta tuttu\, mutta mitä sen seinien sisällä tapahtuu? Millaisia kysymyksiä sen tutkijat ja viestijät pohtivat juuri nyt? Entä miten instituutin asiantuntemusta voi hyödyntää omassa työssään?\nTule HSJ:n vierailulle tutustumaan Ulkopoliittiseen instituuttiin! Illan avaa Yhdysvaltojen politiikkaan erikoistunut tutkija ja Trumpin kansa -tietokirjan (2020) kirjoittaja Maria Lindén (os. Annala)\, joka on työskennellyt aiemmin uutistoimittajana. Hän kertoo Yhdysvaltojen liberaalin demokratian kriisiin keskittyvästä tutkimustyöstään.\nTämän jälkeen ohjelmajohtaja Juha Jokela kertoo instituutin Euroopan unioni -tutkimusohjelmasta ja kesäkuussa pidettävien EU-vaalien keskeisistä kysymyksistä. Tutkimusohjelman painopisteisiin kuuluvat esimerkiksi eurooppalainen puolustusyhteistyö ja EU:n globaali rooli strategisen kilpailun kiristyessä.\n\nMaria Lindén ja Juha Jokela\, kuvat: Ulkopoliittinen instituutti\nLopuksi kuulemme Ulkopoliittisen instituutin toiminnasta\, sen tutkimusohjelmista ja viestinnän ajankohtaisista kysymyksistä. Oppainamme toimivat viestintäpäällikkö Mar-Leena Kolehmainen sekä viestintäasiantuntijat Emma Koponen ja Anna Majuri. Heiltä saamme vinkit sopivan asiantuntijan\, haastateltavan tai aineiston löytämiseen. Kuulemme myös instituutin julkaisuista ja verkkoarkistosta\, sekä sen erikoiskirjastosta\, jonka kokoelmat ovat kaikkien kansainvälisistä suhteista kiinnostuneiden käytettävissä.\nMukaan mahtuu 30 HSJ:läistä ja tilaisuus on jäsenille maksuton. Tarjolla on kahvia\, teetä ja pientä välipalaa. Varauduthan saapumaan paikalle hyvissä ajoin\, ensimmäinen puheenvuoro alkaa tasan klo 16.\nIlmoittaudu viimeistään 29.2. Lämpimästi tervetuloa!
LOCATION:Ulkopoliittinen instituutti\, Arkadiankatu 23 B, 5. krs\, 00100\,
 Helsinki\, Suomi
URL:http://tapahtuma.hsj.fi/upivierailu
END:VEVENT
END:VCALENDAR
