BEGIN:VCALENDAR
METHOD:PUBLISH
VERSION:2.0
PRODID:-//Eventilla iCal Syndication//NONSGML Liana//EN
BEGIN:VEVENT
UID:R1RXN@eventilla.com
DTSTAMP:20200116T150000Z
DTSTART:20200116T150000Z
DTEND:20200116T170000Z
SUMMARY:Alvar Aallon kotimuseo ja ateljee
DESCRIPTION:Tervetuloa opastetulle kierrokselle \nAlvar Aallon kotimuseoon ja ateljeehen\n \n\n\n16.1. Torstaina kello 17:00 – 19:00\n\n\n22.1. (varapäivä\, sama aika) \n\n\nRiihitie 20\, 00330 Helsinki   \n\n\nModernin arkkitehtuurin mestariksi tunnustettu Alvar Aalto (1898–1976) oli aikansa merkittävin arkkitehti. Monet hänen suunnittelemistaan rakennuksista kuten Paimion parantola ja Finlandia-talo ovat mestarinäytteitä materiaalien ja valon yhdistämisestä. Hän teki kaikkiaan noin 500 rakennussuunnitelmaa kahdeksaantoista eri maahan.\nHän suunnitteli yhdessä Aino-puolisonsa (1894–1949) kanssa myös valaisimia\, huonekaluja ja tekstiilejä.\nHelsingin Munkkiniemessä sijaitsevan Aaltojen persoonallisen kodin sekä valoisana arkkitehtitoimistona palvelleen Alvar Aallon ateljeen historia ja arkkitehtuuri avautuvat nyt HSJ:n jäsenille noin pari tuntia kestävällä kierroksella oppaan tarinoita kuunnellen. HUOM! Aallon koti ja ateljee sijaitsevat Munkkiniemessä\, jonne Helsingin keskustasta matka-aika on hieman yli puoli tuntia. \nTervetuloa tutustustumaan!
LOCATION:Alvar Aallon kotimuseo ja ateljee\, Riihitie 20\, 00330\,
 Helsinki
URL:http://tapahtuma.hsj.fi/event/R1RXN
END:VEVENT
END:VCALENDAR
