BEGIN:VCALENDAR
METHOD:PUBLISH
VERSION:2.0
PRODID:-//Eventilla iCal Syndication//NONSGML Liana//EN
BEGIN:VEVENT
UID:VE6al@eventilla.com
DTSTAMP:20251218T160000Z
DTSTART:20251218T160000Z
DTEND:20251218T180000Z
SUMMARY:Tanssiteatteri Hurjaruuth esittää: Talvisirkus Filmi
DESCRIPTION:Tanssiteatteri Hurjaruuth esittää: Talvisirkus Filmi\nNäytös torstaina 18.12. kello 18 alkaen\, kesto väliajan kera noin 2 h\nErkko-sali\, Tanssin talo\, Kaapelitehtaankatu 3\, Helsinki\nKaikki HSJ:n varaamat esityksen liput on myyty. Jonoon voi ilmoittautua mahdollisesti vapautuvien paikkojen varalta 16.11. saakka.\nSyyskauden huipennukseksi HSJ tarjoaa lippuja supersuorittuun Talvisirkukseen alennettuun jäsenhintaan. Lipun hintaan kuuluu myös väliaikatarjoilu.\nOsa lipuista on varattu aikuisille\, osa aikuinen-lapsi -pareille\, joten voit tarjota sirkuselämyksen myös läheiselle lapselle! Jokaisen teatteriin lähtevän aikuisen on oltava HSJ:n jäsen ja jokainen HSJ:n jäsen voi ostaa vain yhden lipun.\nHSJ ei myy näytökseen perhepaketteja\, sillä tahdomme mahdollistaa sirkuskokemuksen mahdollisimman monelle jäsenellemme.\n--\nHurjaruuthin rakastettu ja odotettu koko perheen sirkuselämys loikkaa tänä talvena elokuvanteon vauhdikkaisiin kulisseihin. Talvisirkus Filmi on iloinen\, ilkikurinen ja vauhdikas nykysirkusesitys\, jossa elokuvastudiota muistuttavalle areenalle astuvat kaikessa värikkyydessään tunteet ja muut mielen sopukoiden asukit.\nMaailmanluokan sirkustaiteilijat eri puolilta maailmaa kutsuvat yleisön mukaan yhteiseen leikkiin\, jossa näyttämön taika rakentuu silmiemme edessä. Järjestyksessään 31. Talvisirkus täyttää Tanssin talon Erkko-salin jälleen naurulla\, ihastuksen huokauksilla ja suurilla tunteilla. Astu sisään sirkuksen taikaan\, ihmetellään yhdessä ihmisenä olemisen ihanaa kummallisuutta!\nTalvisirkus Filmin ensi-ilta on 10.12. Näytökset jatkuvat tammikuulle 2026. Talvisirkusta on esitetty jo vuodesta 1994 lähtien. Se on palkittu Sirkuksen Lumo -palkinnolla\, ja vuonna 2012 Helsingin Sanomien kulttuuritoimitus valitsi Talvisirkus Afrikan yhdeksi ”Vuoden huipuista” eli vuoden 2012 mieleenpainuvimmista ja koskettavimmista taide-elämyksistä.\n--\nTalvisirkuksessa viihtyvät niin aikuiset kuin lapset. Esityksessä on kuitenkin välkkyviä valoja\, savutehosteita ja kovaa ääntä\, johon herkkäkuuloinen voi varustautua kuulokkeilla.\nTalvisirkusta ei suositella alle 3-vuotiaille lapsille. Vauhdikas esitys\, valaistus ym. efektit voivat tehdä siitä turhan jännittävän kokemuksen pienelle lapselle. Myös esityksen kesto voi olla perheen pienimmille liian pitkä.  \nTarkemmat saavutettavuustiedot sekä tiedot esiintyjistä ja työryhmästä saat Hurjaruuthin sivuilta.\nLippujen hinta ja myynti\nLippujen myynti alkaa tällä sivulla torstaina 6.11. kello 18 ja päättyy sunnuntaina 16.11. Tarjoamme jäsenillemme 25 aikuisten lippua ja 15 lippua 3-17 -vuotiaille lapsille.\nSaatavilla on kahta lipputyyppiä:\n\n Aikuisliput (10 kappaletta) 20 euroa/lippu\n Aikuinen + lapsi -liput (15 x 2 lippua\, yht. 30 henkilöä) 20 + 10 euroa = 30 euroa/lippu\n\nLipputyyppi valitaan sivun alalaidan valikosta. Huomaathan\, että jos olet lähdössä teatteriin lapsen kanssa\, älä osta itsellesi pelkkää aikuislippua\, vaan valitse yhdistelmälippu "aikuinen + lapsi".\nLipun hintaan kuuluu kahvi/tee/virvoitusjuoma/pillimehu ja talvipulla väliajalla. Ruokavaliota ja väliaikaitarjoiluja koskevat lisätiedot kysytään ilmoittautumislomakkeessa.\nMaksua varten tarvitset pankkitunnukset tai puhelimen mobiilipankkisovelluksen. Voit ladata kuitin ostoksesta saamastasi varausvahvistuksesta.\nLippujen listahinnat ilman jäsenalennusta ovat 38 aikuiselta ja 25 euroa lapselta. HSJ tukee osallistumista hyvällä osuudella. \nMyös jonoon kannattaa ilmoittautua vapautuvien lippujen varalta.\nHSJ:n toimistosta ollaan yhteydessä tarkemmista yksityiskohdista ilmoittautumisajan päätyttyä sähköpostitse ja kerrotaan mm. lippujen toimituksesta. Huom. varaathan mukaasi esitykseen voimassa olevan pressikortin\, varmuuden vuoksi.\nPeruutusehdot\n\nLipun ostaminen on sitovaa. Jos eteen tulee ylitsepääsemätön este\, peru osallistumisesi mahdollisimman nopeasti\, viimeistään kuitenkin torstaina 11.12. Ilmoita peruutuksesta aina HSJ:n toimistoon: johanna.sillanpaa@hsj.fi\nOstettu lippu voidaan hyvittää sen jälkeen vain\, jos tilalle saadaan toinen osallistuja. HSJ:n alennushintaista lippua ei voi vaihtaa toiseen esitykseen.\nJos jokin ilmoittautumisen yhteydessä annettu tieto muuttuu\, olethan yhteydessä HSJ:n toimistoon siitäkin. \n\nLämpimästi tervetuloa Talvisirkukseen!\n \n \n \n \n \n 
LOCATION:Tanssin talo, Erkko-sali\, Kaapeliaukio 3\, 00180\, Helsinki\,
 Suomi
URL:http://tapahtuma.hsj.fi/talvisirkus
END:VEVENT
END:VCALENDAR
