BEGIN:VCALENDAR
METHOD:PUBLISH
VERSION:2.0
PRODID:-//Eventilla iCal Syndication//NONSGML Liana//EN
BEGIN:VEVENT
UID:WLRK3@eventilla.com
DTSTAMP:20190315T150000Z
DTSTART:20190315T150000Z
DTEND:20190315T160000Z
SUMMARY:Vierailu taiteilijakoti Kirpilään
DESCRIPTION:HSJ:n kulttuurikävelyt jatkuvat \n \nKirpilän taidekodissa\n\ntorstaina 7.3. kello 17 - 18 \nperjantaina 15.3. kello 17 - 18\n\nPohjoinen Hesperiankatu 7\, 00260 Helsinki\nJuhani Kirpilä (1931–1988) oli omien sanojensa mukaan ”herrasperheen ainoa kakara”\, kokeilunhaluinen herkkusuu\, kiihkeä taiteenrakastaja\, maailmanmatkaaja\, arvostettu reumalääkäri\, taitava sijoittaja ja ahkera kirjoittaja\, jonka Ohimennen-pakinoita julkaistiin Kauneus ja terveys -lehdessä vuosina 1962–1988.Tunnin kestävällä opastetulla kierroksella tutustumme Juhani Kirpilän kiinnostaviin teoksiin\, kuulemme tarinoita hänen elämästään ja tarkastelemme osaa teoksista myös vinolla katseella (queer).\nTutustu peruutusehtoihin ilmoittautumislomakkeessa!Tervetuloa!
LOCATION:Taiteilijakoti Kirpilä\, Pohjoinen Hesperiankatu 7\, 00260\,
 Helsinki
URL:http://tapahtuma.hsj.fi/event/WLRK3
END:VEVENT
END:VCALENDAR
