BEGIN:VCALENDAR
METHOD:PUBLISH
VERSION:2.0
PRODID:-//Eventilla iCal Syndication//NONSGML Liana//EN
BEGIN:VEVENT
UID:WLRV1@eventilla.com
DTSTAMP:20201104T150000Z
DTSTART:20201104T150000Z
DTEND:20201104T170000Z
SUMMARY:Eloa etäaikaan! Vuorovaikutuksen uudet ulottuvuudet / Martti Salo
DESCRIPTION:Eloa etäaikaan - Vuorovaikutuksen uudet ulottuvuudet\nke 4.11. klo 17-19Sokos Hotelli Presidentti\, Eteläinen Rautatiekatu 4.\nTULE KOKEMAAN AINUTLAATUISEN MUKAANSATEMPAAVA VIESTINNÄN KOULUTUS\, JONKA JÄLKEEN KATSOT MAAILMAA HIEMAN TOISIN SILMIN! \n\nEtäaika verottaa vuorovaikutusta\, jokainen meistä kaipaa keskusteluyhteyteen toisten ihmisten kanssa. Etäisyys lamaannuttaa.\nKoulutuksessa opitaan mm.:\n\nMiksi vuorovaikutus tuntuu etäyhteydessä tavallista haastavammalta ja kuormittavammalta?\nMitä etäviestinnästä puuttuu? \nMitä elementtejä toimivaan vuorovaikutukseen tarvitaan?\nTarvitaanko etäaikana kokonaan uusia tapoja viestiä?\nKuinka voimme saada eloa etäaikaan?\n\nLuentotiedon ohella lähestymme keskinäisviestintää havainnollisten käytännön harjoitteiden kautta\, turvaväleistä huolehtien. \nOpettajana toimii Aalto-yliopiston viestinnän ja puheviestinnän huippukouluttaja MARTTI SALO \n \nPaikkoja on rajoitetusti\, Ilmoittaudu ajoissa mukaan!
LOCATION:Hotelli Presidentti\, Eteläinen Rautatiekatu 4\, 00100\,
 Helsinki
URL:http://tapahtuma.hsj.fi/event/WLRV1
END:VEVENT
END:VCALENDAR
