BEGIN:VCALENDAR
METHOD:PUBLISH
VERSION:2.0
PRODID:-//Eventilla iCal Syndication//NONSGML Liana//EN
BEGIN:VEVENT
UID:WLRZ1@eventilla.com
DTSTAMP:20211003T090000Z
DTSTART:20211003T090000Z
DTEND:20211003T120000Z
SUMMARY:The Art of Creativity
DESCRIPTION:The Art of Creativity\nsunnuntaina 3.10. klo 12.00–15.00\nTaidepedagogi Katriina Haikalan työpajassa kutsutaan esiin luovuutta\, innostusta ja osallisuutta piirtämisen\, performanssin\, improvisaation ja sanallisen ilmaisun avulla. Se sopii kaikille ikään\, sukupuoleen\, taiteelliseen harrastuneisuuteen tai osaamiseen katsomatta. \nMonitaiteellinen työpaja auttaa myös käsittelemään omia tunteita ja antaa työkaluja itsetuntemukseen taiteen keinoin. Ennen kaikkea työpaja luo turvallisen ympäristön heittäytyä ja haastaa omia mukavuusalueita\, tunnistaa ja vapautua oman mielen kriittisyydestä. Uutta luomalla olemme luovuuden lähteillä!\n \nKolmetuntisen työpajan jokaisessa työskentelyvaiheessa käytetään taiteelliseen työskentelyyn perustuvia menetelmiä:\n1. Minä\, sinä\, me. Tutustuminen ja luottamuksen rakentaminen improvisoiden\, keskustellen ja piirtäen. 30 min.\n2. Läsnäolo. Varmistamme\, että olemme läsnä itsellemme ja toisillemme\, metodina piirtäminen. 30 min.\n3. Räjäytys. Erilaisia luovuutta lisääviä harjoituksia piirtäen\, sanallisen ilmaisun ja improvisaation kautta. 30 min.\n4. Kriitikko ja kannustaja. Osallistujat analysoivat omaa sisäistä puhettaan ja tuottavat analyysista teokset. Menetelminä piirtäminen\, sanallinen ilmaisu ja performanssi (itselle tuotettu teko\, ei varsinainen esitys). 60 min.\n5. Kotiin vietävää. Osallistujat reflektoivat työpajassa oppimaansa ja pohtivat\, mitä haluavat muistaa työpajasta. Miten voimme soveltaa oppimaamme arjessa tai työssä? 30 min.\n \nNykytaitelija\, fasilitaattori ja taidepedagogi Katriina Haikalalla on 15 vuoden kokemus kouluttamisesta ja valmentamisesta niin kotimaassa kuin kansainvälisissä organisaatioissa ja hankkeissa. The Art of Creativity -luovuustyöpajametodi on hänen kehittämänsä.\nTyöpajan hinta on 37 euroa kaikille SJL:n jäsenille ja ryhmään otetaan mukaan enintään 20 osallistujaa. Työpaja järjestetään Arabian kaupunginosassa Kääntöpaikan tiloissa.\nOsallistuthan vain terveenä. Tilaisuudessa noudatetaan viranomaisten turvallisuusmääräyksiä ja näistä annetaan tarkemmat ohjeet osallistujille ennen työpajaa.\nTilaisuuden järjestää Helsingin Seudun Journalistit.\nLämpimästi tervetuloa!
LOCATION:Kääntöpaikka\, Intiankatu 1\, 00560\, Helsinki
URL:http://tapahtuma.hsj.fi/event/WLRZ1
END:VEVENT
END:VCALENDAR
