BEGIN:VCALENDAR
METHOD:PUBLISH
VERSION:2.0
PRODID:-//Eventilla iCal Syndication//NONSGML Liana//EN
BEGIN:VEVENT
UID:Xp5e1@eventilla.com
DTSTAMP:20260210T130000Z
DTSTART:20260210T130000Z
DTEND:20260210T143000Z
SUMMARY:Webinaari: Tuoretta tietoa Tilastokeskuksesta
DESCRIPTION:Tuoretta tietoa Tilastokeskuksesta\ntiistaina 10.2. kello 15–16.30Teams\nTilastokeskus tuottaa suomalaista yhteiskuntaa kuvaavia tilastoja päätöksenteon tueksi sekä kansalaisten käyttöön. Suomen suurimpien tietovarantojen avulla voi seurata yhteiskunnan kehitystä\, ja lukuja järjestelemällä ja vertailemalla on mahdollista löytää myös uutisia.\nMiten Tilastokeskuksen tietokantoja käytetään ja millaista tietoa niistä voi löytää? Mitä ajankohtaisia teemoja sisältyy esimerkiksi väestökehityksen tilastoihin? Tule HSJ:n järjestämään webinaariin saamaan tuoretta tietoa ja vinkkejä tilastoaiheiden penkomiseen!\nYliaktuaari ja väestötilastojen asiantuntija Markus Rapo kertoo\, miltä Suomen väestökehitys näyttää väestöennusteen ja tuoreimpien tilastojen perusteella. Kuulemme ainakin syntyvyyden ja maahanmuuton kehityksestä tammikuussa päivittyvien\, vuoden 2025 ennakkotietojen pohjalta.\nTietoasiantuntija Mikko Niemi jakaa parhaat vinkkinsä Tilastokeskuksen tietokantojen käyttöön ja kertoo\, kuinka numeroiden joukosta voi löytää juttuaiheita. Opimme löytämään tuoreimpia lukuja eri aiheista\, rajaamaan niistä haluamamme tiedot ja lataamaan tuloksen omalle koneelle.\nTilaisuus soveltuu kaikille tilastotiedosta kiinnostuneille. Aikaa on varattu myös keskustelulle\, ja ennakkokysymyksiä voi esittää jo ilmoittautumisen yhteydessä.\nWebinaari on maksuton\, eikä sitä tallenneta. \nIlmoittaudu webinaariin viimeistään 8.2. Ilmoittautuminen on sitova. Ilmoittautuneille lähetetään sähköpostitse Teams-linkki webinaaria edeltävänä päivänä.\nLämpimästi tervetuloa!
LOCATION:Teams
URL:http://tapahtuma.hsj.fi/tilastokeskus
END:VEVENT
END:VCALENDAR
