BEGIN:VCALENDAR
METHOD:PUBLISH
VERSION:2.0
PRODID:-//Eventilla iCal Syndication//NONSGML Liana//EN
BEGIN:VEVENT
UID:XpQvW@eventilla.com
DTSTAMP:20251004T210000Z
DTSTART:20251004T210000Z
DTEND:20251008T210000Z
SUMMARY:HSJ:n jäsenmatka Albaniaan
DESCRIPTION:Kuvassa Krujën kaupungin basaari\, kuva: llkka Pitkänen\nHSJ:n jäsenmatka Albaniaan 5.–9.10.\n \nIlmoittautuminen alkaa tiistaina 6. toukokuuta ja päättyy tiistaina 20.5. kello 23.59. Paikkoja on 18 HSJ:n jäsenelle. Jos ilmoittautujia on enemmän kuin paikkoja\, osallistujat arvotaan.\nJäsenmatkoilla noudatamme kahden vuoden karanteenikäytäntöä. Paikkoja saattaa vapautua mahdollisten peruutusten myötä myös "karanteenissa" oleville jäsenillemme\, joten jos matka kiinnostaa\, ilmoittautuminen kannattaa!\nMiten hyvin tunnet Albaniaa? HSJ:n matkalla Albaniassa kohtaavat idän ja lännen kulttuurit\, kansat ja uskonnot. Kompaktin ja vuoristoisen maan rannikkoa hellii turkoosi Adrianmeri. Albania kiinnostaa verrattain tuntemattomana matkakohteena\, jonka vaiheikkaassa historiassa\, monikerroksisissa kaupungeissa ja karun kauniissa luonnossa riittää tutustuttavaa. Turisteille Albania on turvallinen ja ystävällinen maa vierailla.\nHSJ:n kumppani matkan järjestämisessä on tuttu matkatoimisto Friis&Resor\, joka toteuttaa matkan yhteistyössä Tours Albania&Balkansin kanssa. Matkanjohtajanamme toimii kokenut Albanian kävijä Nils-Erik Friis. HSJ:sta matkalle osallistuu toiminnanjohtaja Johanna Sillanpää.\nMatkakohteet\nAlbaniassa tutustumme historiallisiin kaupunkeihin nähtävyyksineen. Matkaa taitetaan bussilla ja majoitumme hyvätasoisissa hotelleissa. Illat ovat vapaita omatoimiseen kohteeseen tutustumiseen ja lepäämiseen. \nLaskeuduttuamme sunnuntai-iltana Tiranan lentokentälle siirrymme majoittumaan Durresiin (noin 30 km ajomatka). Ikivanhan satamakaupungin pitkä rantaviiva kutsuu myös turisteja. Maanantaina tutustumme yhdessä kaupungin tärkeimpiin nähtävyyksiin: roomalaiseen amfiteatteriin ja arkeologiseen museoon.\n\nBerat\, tuhansien ikkunoiden kaupunki. Kuva: Nils-Erik Friis\nTiistaina retkemme etenee Durresista sisämaahan Unescon maailmanperintöluetteloon listattuun hienoon\, vanhaan Beratin kaupunkiin (noin 90 km). Beratista löytyy muun muassa bysantin aikainen linnoitus. Kaupunki tunnetaan myös Onufrin ikonimuseosta\, jossa vanhimmat ikonit ovat 1500-luvulta. Tiistaina tutustumme myös viinintekoon ja maistelemme viiniä Pupan tilalla. Matka jatkuu majoittumaan Tiranaan. Beratin ja Tiranan etäisyys on noin 100 km.\nKeskiviikkona pääkaupunki Tiranassa tavataan paikallista mediaa ja tutustutaan nähtävyyksiin. Vierailemme albanialaisten naisten historiaa valottavassa Women’s Museum in Tiranassa sekä salaisen tiedustelupalvelu Sigurimin museoidussa päämajassa House of Green Leaves. Torstai kuluu takaisin kotiin matkustaessa.\nAlustava aikataulun sekä Albania-aiheista luettavaa löydät sivun alalaidasta.\nMatkan hinta Matkan jäsenhinta on 825 euroa jaetussa kahden hengen huoneessa. Lisämaksu yhden hengen huoneesta on 160 euroa.\nMatkan hinta sisältää lennot\, yhden max. 23 kg painavan ruumaan menevän laukun sekä max. 8 kg painoisen käsimatkatavaran\, neljä hotelliyötä aamiaisineen sekä kolme lounasta\, ohjelmaan liittyvät kuljetukset\, sisäänpääsymaksut\, paikallisen\, englanninkielisen oppaan ja suomalaisen matkanjohdon. Illalliset ovat omakustanteisia.\nHSJ tukee matkaa 200 eurolla jäsentä kohti.\nMajoitus\nDurresissa majoitumme Hotel Leonardo Durres Beachiin. Tiranassa majapaikkamme on Bazaar Hotel.\nMatkan perushintaan kuuluu majoitus jaetussa 2 hengen huoneessa. Lisämaksu 1 hengen huoneesta on 160 euroa. Niiden saatavuus on rajallista\, toiveen voi esittää ilmoittautumislomakkeella.\nMikäli suunnittelette matkaa ystävän kera\, ilmoittautumislomakkeella voi nimetä toiveen huonekaverista.\nAikataulu\nMatkan tarkka ohjelma ja aikataulu vahvistetaan syyskuussa. Ohessa alustava matkasuunnitelma:\nSunnuntai 5.10.2025\n10.20 lähtöselvitys Helsinki-Vantaan lentoasemalla alkaa 12.20 Aegean Airlinesin lento lähtee16.20 Välilasku Ateenassa17.50 Aegean Airlinesin lento Tiranaan18.05 kone laskeutuu Tiranan lentokentälleBussikuljetus Durresiin\, jossa majoitumme\nMaanantai 6.10.2025\nAamiainen hotellin ravintolassaTutustumme Durresin nähtävyyksiinYhteinen lounas\, vapaa ilta\nTiistai 7.10.2025\nAamiainen hotellilla ja check out9.00 bussikuljetus ja tutustumista Beratin kaupunkiinLounas\, jonka jälkeen vierailu Pupan viinitilallaMatka jatkuu TiranaanMajoittuminen hotelliin\nKeskiviikko 8.10.2025Aamiainen hotellilla10.00 mediatapaaminenLounasTutustumista Tiranan nähtävyyksiinIlta vapaa\nTorstai 9.10.2025\nAamiainen hotellin ravintolassaVapaa aamupäivä11.40 lähtö hotellista12.20 lähtöselvitys Tiranan lentokentällä14.20 Lufthansan lento FrankfurtiinHuom. Frankfurtin kentällä vaihtoaikaa 4h 35min21.15 jatkolento Helsinkiin00.40 saapuminen Helsinki-Vantaan lentoasemalle (perjantain puolella)\nMaksuehdot\nHSJ:n toimistosta ollaan yhteydessä niin matkalle valituksi tulleisiin kuin mahdollisiin jonoon jääneisiin ilmoittautujiin ilmoittautumisen päätyttyä\, viimeistään viikolla 22.\nMatkanjärjestäjä Friis&Resor laskuttaa 250 euron ilmoittautumismaksun matkaanlähtijöiltä kesäkuun alussa. Ilmoittautumismaksun maksaminen eräpäivään mennessä on sitovaa. Jos osallistuja ei maksa ilmoittautumismaksua eräpäivään mennessä\, hänen paikkaansa tarjotaan toiselle ilmoittautuneelle.\nFriis&Resor laskuttaa erikseen loppumaksun 575 euroa (+ mahdollisen lisän 1 hengen huoneesta) eräpäivällä 5.9.\nJos matkustaja peruu osallistumisensa matkalle\, matkanjärjestäjällä on oikeus laskuttaa peruutuksesta johtuvia kustannuksia matkustajalta.\nIlmoittautuminen ja siihen liittyvät tiedustelut\nIlmoittautuminen matkalle alkaa tiistaina 6.5. ja päättyy tiistaina 20.5. kello 23.59. Matkalle on 18 paikkaa\, ja mikäli ilmoittautuneita on enemmän\, osallistujat arvotaan. Ilmoittautumiset kerää HSJ. Myöhemmin matkan maksuista ja matkalle osallistumisen yksityiskohdista on osallistujiin yhteydessä myös matkatoimisto Friis&Resor.\nIlmoittautumista koskeviin tiedusteluihin vastaa HSJ:n toiminnanjohtaja: johanna.sillanpaa@hsj.fi.\nMatka-asiakirjat ja maatietoa\nMatkaa varten tarvitaan passi tai henkilökortti. Passin tulee olla voimassa 3 kk Albaniaan saapumisen jälkeen.\nSuomalaisille Albania on edullinen maa matkustaa. Paikallinen rahayksikkö on lek. Maksukortteja hyväksytään melko hyvin\, eurojakin paikoin.\nAlbaniassa on noin 2\,7 miljoonaa asukasta\, Tiranassa 528 000. Vesijohtovettä ei suositella juotavaksi.\nAlbanian historiasta lyhyesti\nAlbanian historia ulottuu antiikin aikaan. Alueella ovat hallinneet  illyrialaiset\, roomalaiset ja Itä-Rooma eli bysantti\, Serbia\, Venetsia sekä ottomaanit ja Turkki. Islamin uskon tullessaan tuoneet Ottomaanit valtasivat Albanian alueita 1400-luvulla. Ottomaanien valtakunnan rapistuessa valtaosa Albaniasta pysyi Turkin hallussa. \nItsenäisyyspyrkimykset nousivat 1800-luvulla\, ja Albania itsenäistyi vuonna 1912 ensimmäisen Balkanin sodan ja Lontoon sopimuksen myötä. Ensimmäisen maailmansodan aikaan Italia miehitti Albanian. Itsenäisyys tunnustettiin uudelleen 1920. Kuningaskunta Albaniasta tuli vuonna 1928. Riippuvuus Italiasta kasvoi ja kun Mussolini miehitti Albanian vuonna 1939\, Albania siirtyi Italian alaisuuteen. \nToisen maailmansodan aikaan Albaniassa taistelivat moninaiset ryhmittymät. Vallankahvaan maassa nousi Enver Hoxha joukkoineen Jugoslavian Titon avulla\, ja Albania julistettiin kansallissosialistiseksi tasavallaksi 1946. Itsevaltias Hoxha ammensi mallia hallintoonsa Jugoslavian ja Neuvostoliiton sijaan Kiinasta. Ajauduttuaan välirikkoihin niin Neuvostoliiton kuin Kiinan kanssa Albania kääntyi yhä voimakkaammin sisäänpäin. Henkilökultti Hoxhan ympärillä syveni\, maan ihmisoikeustilanne heikkeni ja esimerkiksi uskontoja vastustettiin Albaniassa kiivaasti. Monipuoluejärjestelmään Albania siirtyi lopulta 1991 Hoxhan kuoltua ja sosialismin murruttua Itä-Euroopassa.\nPääministeri Edi Raman johtama sosialistipuolue on ollut vallassa vuodesta 2013 lähtien. Maa on hyväksytty EU:n jäsenyyden hakijavaltioksi ja Naton jäsen se on ollut vuodesta 2009.\nLinkkejä & luettavaa\nUM: Ajantaisainen matkustustilanne Albaniassa\nAdventurista-blogi: Dürres - Albanian parjattu rantakaupunki onkin todellinen helmi-onkin-todellinen-helmi/Adventurista-blogi: Berat - Albanian viehättävin kaupunki \nAlbaniaan.fi: Berat - tuhannen ikkunan kaupunki Kerran elamassa: Tirana - matka Albanian erikoisen kiehtovaan pääkaupunkiin\nCondé Nast Traveller: A guide to Albania\, Europe’s best-kept secretBBC: Albania country profile\nKirjallisuutta: \nLea Ypi: "Vapaa" (Atena 2023\, suom. Riina Vuokko)\nPajtim Statovci mm. "Tiranan sydän" (Otava 2016)
LOCATION:Albania
URL:http://tapahtuma.hsj.fi/hsj_albania
END:VEVENT
END:VCALENDAR
