BEGIN:VCALENDAR
METHOD:PUBLISH
VERSION:2.0
PRODID:-//Eventilla iCal Syndication//NONSGML Liana//EN
BEGIN:VEVENT
UID:XzRNW@eventilla.com
DTSTAMP:20210915T133000Z
DTSTART:20210915T133000Z
DTEND:20210915T160000Z
SUMMARY:Sieniretki Nuuksioon
DESCRIPTION:Sieniretki Nuuksioon\nkeskiviikkona 15.9. klo 16.30 alkaen\nTapaamispaikka: Nuuksion ulkoilumajan parkkipaikka\, Nuuksionkuja 2\, Espoo\nJoko tunnet tyypillisimmät metsäsienet vai kaipaatko vielä lisäevästystä\, jotta tohtisit keruuretkelle itseksesi? Lähde mukaamme sieniretkelle Nuuksioon! Retki tarjoaa paitsi liikuntaa myös vinkkejä sienten tunnistamiseen\, käsittelyyn ja valmistamiseen.\nRetki on maksuton HSJ:n jäsenille ja mukaan mahtuu 20 osallistujaa. Tapaamispaikalle saavutaan omalla kyydillä. Helsingin keskustasta Nuuksion ulkoilumajan parkkipaikalle pääsee julkisilla kulkuneuvoilla noin tunnissa. Espoon keskuksesta kulkevat bussit 244 (pysäkki: Brobackanpiha) ja 245A (pysäkki: Hakjärventie) pysähtyvät ulkoilumajan lähistölle. Espoon keskuksen tavoittaa Helsingistä nopeimmin junalla (U\, E). Tarkista aikataulut etukäteen: www.hsl.fi\n\nTapaamme toisemme ja Uudenmaan Marttojen sienineuvojan Hanna Pikkaraisen Nuuksion ulkoilumajan parkkipaikalla kello 16.30.\nRetki alkaa yhteisellä infolla (20–30 min)\, jonka jälkeen suunnataan metsään (1\,5–2 h). Retken tarkemmasta kestosta sovitaan paikan päällä. Lopuksi kaikkien sienikorien sisältö tarkistetaan yhteisesti. Retken arvioitu päättymisaika on kello 19.\nOta mukaan omat eväät ja vesipullo\, sopiva sieniveitsi ja kori sekä vaatteet sään mukaan. Hyvät kengät ovat oleelliset\, matkaa kertyy n. 2–3 km vaihtelevassa maastossa.\nRetki pyritään tekemään päivänvalon aikaan\, mutta pieni tasku- tai otsalamppu ei ole pahitteeksi\, illat hämärtyvät nyt nopeasti.\nKeskiviikoksi luvataan kaunista säätä\, mutta tarkistamme ennusteen edellisenä päivänä. Mikäli luvassa on erityisen huonoa keliä\, yritämme etsiä retkelle toisen päivämäärän. Pieni sade ei metsässä kulkemista kuitenkaan estä.\nOsallistuthan retkelle vain terveenä. Peru osallistumisesi esteen sattuessa mahdollisimman nopeasti\, jotta voimme tarjota paikkaasi eteenpäin.\n\nLämpimästi tervetuloa omalla vastuulla: tattihulluus on tarttuvaa!
LOCATION:Nuuksion kansallispuisto\, Nuuksionkuja 2\, 02820\, Espoo
URL:http://tapahtuma.hsj.fi/event/XzRNW
END:VEVENT
END:VCALENDAR
