BEGIN:VCALENDAR
METHOD:PUBLISH
VERSION:2.0
PRODID:-//Eventilla iCal Syndication//NONSGML Liana//EN
BEGIN:VEVENT
UID:XzRgD@eventilla.com
DTSTAMP:20221014T150000Z
DTSTART:20221014T150000Z
DTEND:20221014T170000Z
SUMMARY:HSJ höntsä: padel & golf
DESCRIPTION:HSJ-höntsät jatkuvat toivelajien parissa! Tervetuloa kokeilemaan\npadelia ja golf-simulaattoria Padel & Golf Plazaan Tuusulaan perjantaina 14.10. kello 18–20\nNelistään pelattavasta padelista on tullut nopeasti yksi suosituimmista sisäpelilajeista. Lajia kehutaan helpoksi\, hauskaksi ja koukuttavaksi - uskoisiko tuota?\nSamalla kun osa hikoilee padel-kentällä\, osa voi kokeilla swingiään golf-simulaattorissa. Tässäkään aiempi kokemus ei ole tarpeen!\nPadel & Golf Plazasta saamme mailat ja pallot molempiin peleihin. Halli on uusi ja nykyaikainen\, molemmille lajeille varta vasten tehty. Säännöt ja lyöntitekniikat ensikertalaisille neuvotaan henkilökunnan puolesta.\nHSJ:lle on varattu 3 padel-kenttää ja 3 golf-simulaattoria. Yhdellä kentällä ja simulaattorissa voi pelata yhtä aikaa 4 henkilöä. Illan aikana ehtii kokeilla tunnin molempia lajeja.\nEi kannata ujostella: etsitään ryhmästä suunnilleen saman tasoiset ja -kuntoiset pelikaverit. Höntsät on tarkoitettu kaikille\, ja happea saa vetää. Plazasta löytyy myös mukava kahvio ja baari esimerkiksi golfin lomaan. Treeneihin ei kuitenkaan kannata saapua nälkäisenä - saati uppotäydellä vatsalla.\nVarustus\nVaraa mukaasi sisäliikuntavaatteet\, sisäpelikengät sekä juomapullo. Jos omistat golf-kengät\, niitä saa käyttää myös simulaattorilla. Padel nostattaa hien ja golf tasaa rytmin\, mikä kannattaa huomata myös varustuksessa. Saman illan aikana voi olla käyttöä niin T-paidalle kuin college-pusakalle.\nTreenikerran jälkeen on mahdollisuus käydä suihkussa ja saunassa\, joten vaihtovaatteet ja oma pyyhe kannattaa ottaa mukaan. Naisille ja miehille on omat pukuhuoneensa ja suihkutilansa. Sauna sijaitsee erillisen lounge-tilan yhteydessä ja sitä voivat käyttää myös muut keskuksen asiakkaat.\nSaapuminen\nPadel & Golf Plaza on tavoitettavissa omalla autolla. Se sijaitsee Vantaan ja Tuusulan rajalla Kulomäentien (152) tuntumassa muutama minuutti Tuusulanväylältä. Tarkka osoite on Högberginhaara 9. Alueella on mm. autoliikkeitä ja teollisuus- ja logistiikkahalleja. Ajomatka Helsingin keskustasta pelihallille kestää noin 30 minuuttia\, mutta etenkin mennessä kannattaa varautua kantakaupungin ja Tuusulanväylän mahdollisiin ruuhkiin.\nYhteiskyyti keskukselle lähtee kello 17.15 Kiasmalta (tarvittaessa aikaa tarkennetaan vielä). Lähtö takaisin on kello 20.30 ja Helsingissä ollaan noin kello 21.\nKerro siis ilmoittautumisen yhteydessä tarvitsetko yhteiskyydin. Oikean kokoluokan auto varataan ennakkoilmoitusten perusteella.\nIlmoittaudu viimeistään 2.10. Tervetuloa pitämään hauskaa!\n--\nHöntsissä tutustumme erilaisiin urheilulajeihin ammattilaisten tai aktiivisten harrastajien avulla vailla tulostavoitteita. Tärkeintä on hyväntuulinen pelailu\, erilaisten lajien kokeilu ja yhdessä liikkuminen. Aiempaa harrastuneisuutta tai pelitaustaa ei tarvita. Jokainen höntsäkerta on itsenäinen ja sille ilmoittaudutaan erikseen.
LOCATION:Padel & Golf Plaza\, Högberginhaara 9\, 04360\, Tuusula
URL:http://tapahtuma.hsj.fi/event/XzRgD
END:VEVENT
END:VCALENDAR
