BEGIN:VCALENDAR
METHOD:PUBLISH
VERSION:2.0
PRODID:-//Eventilla iCal Syndication//NONSGML Liana//EN
BEGIN:VEVENT
UID:XzRgW@eventilla.com
DTSTAMP:20220528T093000Z
DTSTART:20220528T093000Z
DTEND:20220528T140000Z
SUMMARY:Lemminkäisen temppeli
DESCRIPTION:Iltapäiväretki Lemminkäisen temppelille\nlauantaina 28.5. kello 12.30 alkaen\nRetkellä tutustutaan Sipoon Gumbostrandissa sijaitsevaan Lemminkäisen temppeliksi kutsuttuun luolaan. Paikkaa ympäröi mystiikka\, jota loi eksentrikko ja taiteilija Ior Bock (Bror Holger Svedlin\, 1942–2010). Bockin ajattelua sekä omia tietojaan ja muistojaan vanhasta ystävästään avaa Juha Javanainen\, joka myös omistaa luolaa ympäröivän maa-alueen. Javanainen on tehnyt elämäntyönsä joogan parissa\, ja hän on toinen Helsinki Astanga joogakoulun perustajista.\nLuolavisiitin jälkeen tutustumme Gumbostrand Konst & Form -galleriaan (tulevista näyttelyistä tulee tietoja gallerian kotisivuille). Gallerialla on myös pieni myymälä\, josta voi löytää mukavia kotiinviemisiä\, sekä bistro\, jossa mahdollista nauttia iltapäiväkahvit.\nRetken järjestää HSJ:n Esoteriakerho vetäjänään toimittaja  Jukka Vuorio. Jukalta voi kysyä lisätietoja vierailun sisällöstä: jukka.mikael.vuorio@gmail.com\, +35845 2567 311.\nLisätiedot\n\nKuljetus Sipooseen lähtee Kiasman edestä Mannerheiminaukiolta kello 12.30. Ole paikalla ajoissa.\nMinibussi kuljettaa ryhmän lähelle Lemminkäisen temppeliä\, noukkii kyytiinsä visiitin jälkeen\, kuljettaa galleriaan ja sieltä jälleen Helsinkiin.\nLähtö takaisin Gumbostrand Konst & Formista on viimeistään kello 16.30\, jolloin Helsingissä ollaan takaisin n. kello 17. (Edit. Paluuaikaa tarkennettu 25.5.)\nVaraa mukaasi säänmukainen vaatetus. Luolalla saattaa olla vettä ja märkää\, joten kumisaappaat voivat olla tarpeen. Ne voi halutessaan vaihtaa bussissa.\nHSJ kustantaa kuljetuksen\, välipala Gumbostrandissa on omakustanteinen.\nRetkelle mahtuu 18 osallistujaa.\nIlmoittaudu alla viimeistään 20.5.\nRetkelle ei ole osallistumismaksua\, mutta alle viikkoa ennen tapahtumapäivää tehtävistä peruutuksista peritään 10 euroa ja peruutuksista tapahtumapäivänä 30 euroa.\nRetkellä noudatetaan koronaan liittyviä suosituksia\, joista informoidaan osallistujia tilanteen mukaan ennen lähtöä. \n\nLämpimästi tervetuloa!
LOCATION:Lemminkäisen temppeli\, Vainuddintie\, 01150\, Sipoo
URL:http://tapahtuma.hsj.fi/event/XzRgW
END:VEVENT
END:VCALENDAR
