BEGIN:VCALENDAR
METHOD:PUBLISH
VERSION:2.0
PRODID:-//Eventilla iCal Syndication//NONSGML Liana//EN
BEGIN:VEVENT
UID:XzeY1@eventilla.com
DTSTAMP:20240118T150000Z
DTSTART:20240118T150000Z
DTEND:20240118T164500Z
SUMMARY:Sonja Saarikosken Naisvangit Siltalassa
DESCRIPTION:Sonja Saarikosken Naisvangit Siltalassa\ntorstaina 18.1.2024 kello 17–18.45 (noin)\nHaluatko kuulla\, miten ja miksi syntyi toimittaja Sonja Saarikosken palkittu tietokirja Naisvangit? \nTule HSJ:n vierailulle kirjan kustantamoon Siltalaan\, jossa Saarikoski ja kirjan kustannustoimittaja Antti Arnkil kertovat meille kirjasta\, työstään ja yhteistyöstään. Naisvangit – Rikollisuuden kehä maailman onnellisimmassa maassa (2023) sai marraskuussa Kanava-tietokirjapalkinnon ja oli tietokirjallisuuden Finlandia-ehdokkaana.Naisvangit kuvaa suomalaisten naisvankien elämää vankilassa ja sen ulkopuolella sekä vankeinhoidon historiaa ja nykyisyyttä. Kirjaansa varten Sonja Saarikoski tapasi ja haastatteli kymmeniä naisvankeja. Mitä se tarkoitti käytännössä? Miten syväsukellus monelle keskiluokkaiselle vieraaseen todellisuuteen vaikutti toimittajaan? Missä kulki inhimillisyyden ja objektiivisuuden raja? Miten löytyi tekstin sävy\, joka säväyttää ilman että saarnaa? Haastattelujen lisäksi Saarikoski teki kirjaansa valtavan määrän taustatyötä. Mistä jaksaminen siihen\, entä aika ja rahat? \nAntti Arnkil ja Sonja Saarikoski. Henkilökuvat Laura Malmivaara\, kaikki kuvat Siltala. Tekstinä Naisvangit on kuin superpitkä feature-artikkeli. Miten kustannustoimittaja Antti Arnkil työskenteli sellaisen tekstin editorina\, entä Saarikosken tukena? Missä vaiheessa hän tuli mukaan? Paljonko työhön oli aikaa? Miten Saarikosken ja Arnkilin yhteistyö sujui? Vierailun aikana Arnkil sanoo sanasen myös Siltalasta ja siitä\, miten kustantamo tuotti vuodelle 2023 kolme Finlandia-ehdokasta.Vierailulle mahtuu mukaan 27 HSJ:läistä\, ja se on jäsenille maksuton. Vierailulla on tarjolla mehua ja keksejä -tyyppistä välipalaa. Siltala sijaitsee Helsingin Sörnäisissä osoitteessa Suvilahdenkatu 7. Ilmoittaudu viimeistään torstaina 11.1.2024. Tervetuloa!
LOCATION:Kustantamo Siltala\, Suvilahdenkatu 7\, 00500\, Helsinki\, Suomi
URL:http://tapahtuma.hsj.fi/event/XzeY1
END:VEVENT
END:VCALENDAR
