BEGIN:VCALENDAR
METHOD:PUBLISH
VERSION:2.0
PRODID:-//Eventilla iCal Syndication//NONSGML Liana//EN
BEGIN:VEVENT
UID:Y7RZA@eventilla.com
DTSTAMP:20191104T150000Z
DTSTART:20191104T150000Z
DTEND:20191104T170000Z
SUMMARY:Laura Lindstedt
DESCRIPTION:HSJ:n kirjailijakohtaamisessa \nLaura Lindstedt \nmaanantaina 4.11. kello 17 - 19\nKustannus Oy Teoksen salongissa\,Kasarmikatu 23 A/3. kerros\, Helsinki \nVuonna 2015 Laura Lindstedt voitti Oneiron -teoksellaan Finlandia-palkinnon.Hänen keväällä 2019 ilmestynyt\, Ystäväni Natalia -teoksensa asettuu tämän hetken feministisen maailmankirjallisuuden rivistöön. Lindstedtin mielestä Ystäväni Natalia syntyi nopeasti\, neljässä vuodessa. Oneironia hän kirjoitti kahdeksan vuotta ja sitä edeltänyttä esikoisromaaniaan Sakset seitsemän vuotta.Mutta millainen on tämä pitkäjännitteisesti teoksiinsa paneutuva kirjailija\, jolla on kyky luoda omanlaisensa maailmat ja kirjoittaa uskomattoman kaunista suomen kieltä?Tilaisuuden alussa Helsingin Sanomien kulttuuritoimittaja Suvi Ahola haastattelee Laura Lindstedtiä kirjailijana ja erityisesti hänen uusimmasta teoksestaan Ystäväni Natalia.Illan lopuksi on luvassa pientä tarjoilua ja mahdollisuus ostaa Teoksen kirjoja alennettuun hintaan. Illan kirja etukäteen alennettuun hintaanTilaisuuteen ilmoittautuneilla on mahdollisuus ostaa Ystäväni Nataliaa jo etukäteen 25 euron hintaan Teoksen kirjakaupasta. Osto-ohjeet lähetetään tilaisuuteen osallistujille erikseen.  \nLaura Lindstedtin Ystäväni Natalia on HSJ:n lukupiirin marraskuun teos. 
LOCATION:Kust. Oy Teos/ salonki\, Kasarmikatu 23 A, 3. kerros\, 00130\,
 Helsinki
URL:http://tapahtuma.hsj.fi/event/Y7RZA
END:VEVENT
END:VCALENDAR
