BEGIN:VCALENDAR
METHOD:PUBLISH
VERSION:2.0
PRODID:-//Eventilla iCal Syndication//NONSGML Liana//EN
BEGIN:VEVENT
UID:Y7RgM@eventilla.com
DTSTAMP:20220216T150000Z
DTSTART:20220216T150000Z
DTEND:20220216T180000Z
SUMMARY:Näin kirjoitat esseen
DESCRIPTION:Näin kirjoitat esseen\nKeskiviikkona 16.2. klo 17-20 Teams-webinaari\nVietä innostava ilta esseen parissa! Luennosta\, työpajatehtävistä ja keskusteluista koostuva koulutus avartaa käsitystä esseistiikasta ja esseen mahdollisuuksista. Koulutus sopii kaikille esseiden lukemisesta ja kirjoittamisesta kiinnostuneille.\nKouluttajana toimii esseisti\, kriitikko FM Silvia Hosseini.\nKolmen tunnin aikana\n\npaneudutaan esseen lajityyppeihin\, ominaispiirteisiin ja keinoihin.\nosallistuja saa inspiraatiota\, lukuvinkkejä ja uusia ideoita kirjoittamiseen.\nvahvistetaan omaa persoonallista kirjoitustyyliä.\n\nNyt on aika teroittaa kynät!\nSilvia Hosseini on kirjailija\, kriitikko ja kirjoittamisen opettaja. Hän on kirjoittanut kaksi esseekokoelmaa: Pölyn ylistys (2018) sekä Tie\, totuus ja kuolema (2021). Hosseini tunnetaan myös yhteiskunnallisena keskustelijana ja Kulttuuriykkösen Perjantaistudion vakiovieraana.\nTässä linkissä Helsingin Sanomissa 4.1. ilmestynyt Silvia Hosseinin tuore essee.\nLinkki aukeaa\, jos sinulla on HS:n lukuoikeudet.\nIlmoittaudu heti mukaan!\nTämä koulutus on maksullinen:\n\n 25 euroa työsuhteiset\, freelancerit\, eläkeläiset\n 10 euroa työttömät ja opiskelijat\n\nLippu valitaan ilmoittautumisen yhteydessä. Maksua varten tarvitset pankkitunnukset tai puhelimen mobiilipankkisovelluksen.\nHSJ tukee jäsentensä osallistumista maksullisiin koulutuksiin ja tapahtumiin vähintään 40 prosentilla. Muistathan\, että työnantajalta voi tiedustella osallistumista ammatillisen koulutuksen kustannuksiin.\nTervetuloa!
LOCATION:Teams-webinaari
URL:http://tapahtuma.hsj.fi/event/Y7RgM
END:VEVENT
END:VCALENDAR
