BEGIN:VCALENDAR
METHOD:PUBLISH
VERSION:2.0
PRODID:-//Eventilla iCal Syndication//NONSGML Liana//EN
BEGIN:VEVENT
UID:YM5WE@eventilla.com
DTSTAMP:20260506T053000Z
DTSTART:20260506T053000Z
DTEND:20260506T083000Z
SUMMARY:Osastojen aamu
DESCRIPTION:Tervetuloa HSJ:n osastojen aamuun\nRavintola Lasipalatsiin (kabinetit Helsinki/Akvaario) keskiviikkona 6.5. kello 8.30–11.30\n \nHelsingin Seudun Journalistien osastoseminaari tarjoillaan tällä kertaa aamiaisen kera. Lämpimästi tervetuloa tapaamaan HSJ:n väkeä ja kollegoja muista osastoista! \nLuvassa on kokemusten ja ideoiden vaihtoa myös pienryhmissä sekä keskustelua ainakin seuraavista aiheista:\n* Osastojen kuulumiset – sana on vapaa\nMikä teitä puhututtaa? Tule vaihtamaan osastojen kuulumisia!\nSeminaarissa on helppo kysyä kollegoilta ja HSJ:lta erinäisistä asioista. Kysymyksiä ja toiveita keskustelunaiheista voi jättää jo etukäteen ilmoittautumislomakkeella\, tai lähettää toiminnanjohtajalle: johanna.sillanpaa@hsj.fi.\n* Osastokysely 2026\nJoko osastosi on vastannut HSJ:n osastokyselyyn? Vastauksia otetaan vastaan 31.3. saakka!\nKäymme läpi tiiviisti HSJ:n osastokyselyn saldoa ja nostamme esiin muutamia kyselyssä nousseita teemoja. \n* Jäsenhankintasuunnitelma\nJournalistiliiton jäsenhankintatyöryhmän työskentelyn pohjalta liitolle on laadittu jäsenhankintasuunnitelma\, joka tulee toukokuussa valtuuston käsittelyyn. Tutustumme jo etukäteen toimenpiteisiin\, joita osastoille ja yhdistyksille on ehdotettu. \nKuka voi osallistua seminaariin?\nOsastojen aamu on tarkoitettu kaikenlaisille HSJ:n toimitusosastoille kokoon ja aktiivisuuteen katsomatta. Seminaari on osallistujille maksuton ja se sisältää maistuvan aamiaiskattauksen.\nOsallistua voi 3 henkilöä/toimitusosasto. Osastot päättävät seminaarin osallistujista. Kutsun ovat saaneet Journalistiliiton jäsenrekisteriin merkityt HSJ:n toimitusosastojen toimihenkilöt\, luottamushenkilöt sekä työsuojeluvaltuutetut.\nKiitos\, kun jaatte kutsua eteenpäin osastoissa!\nIlmoittaudu tilaisuuteen viimeistään tiistaina 21.4.
LOCATION:Ravintola Lasipalatsi\, Mannerheimintie 22\, 00100\, Helsinki\,
 Suomi
URL:http://tapahtuma.hsj.fi/osastojen_aamu
END:VEVENT
END:VCALENDAR
