BEGIN:VCALENDAR
METHOD:PUBLISH
VERSION:2.0
PRODID:-//Eventilla iCal Syndication//NONSGML Liana//EN
BEGIN:VEVENT
UID:YaKPA@eventilla.com
DTSTAMP:20250325T110000Z
DTSTART:20250325T110000Z
DTEND:20250325T130000Z
SUMMARY:Webinaari: Näin yhdistät eri työnteon muotoja
DESCRIPTION:Annina Vainion kuva: Elias Lahtinen\nMedia-alan sekatyöläisyys – näin yhdistät eri työnteon muotoja\ntiistaina 25.3. kello 13–15\, Teams\nSaatko tulosi useasta eri lähteestä? Tasapainoiletko osa-aikaisen työsuhteen ja freelancetöiden välillä\, tai onko kiikarissa apurahaprojekti? Entä harkitsetko työskentelyä osuuskunnan jäsenenä? Tule Helsingin Seudun Journalistien ja Suomen freelance-journalistien järjestämään webinaariin kuulemaan\, miten toimii media-alan sekatyöläisyys! \nTilaisuudessa kuulet\, millaista erilaisten työnteon muotojen yhdistely  on käytännössä. Saat tietoa siitä\, miten esimerkiksi sairauspäiväraha tai työttömyysturva määräytyvät tällaisessa tilanteessa. Opit myös\, millainen vaihtoehto osuuskunta on.\nWebinaarissa Suomen freelance-journalistien toiminnanjohtaja Anna-Sofia Nieminen kertoo eri työnteon muodoista ja käy läpi keikkatyöläisen sosiaaliturvaa. Mediakunnan toiminnanjohtaja Hanna Kokkonen esittelee Journalistiliiton jäsenten omaa työosuuskuntaa ja kertoo\, miten töitä tehdään osuuskunnan jäsenenä.\nOmasta työarjestaan kertoo tamperelainen vapaa toimittaja\, tietokirjailija ja media-alan sekatyöläinen Annina Vainio\, joka on työskennellyt alalla vuodesta 2005. Toimittajan ja tietokirjailijan töiden lisäksi hän on toiminut kustannustoimittajana\, oikolukijana\, opettajana\, tutkijana\, osuuskunnan taloudenhoitajana ja luennoitsijana. Vainio on tehnyt töitä niin freelancerina ja työsuhteessa kuin apurahoillakin. Puheenvuorossaan Vainio avaa media-alan sekatyöläisen arkea ja käytännön järjestelyjä.\nOhjelma:\n13–13.30 Tilaisuuden avaus. Erilaiset työnteon muodot ja keikkatyöläisen sosiaaliturva. Anna-Sofia Nieminen\, toiminnanjohtaja\, Suomen freelance-journalistit\n13.30–14 Työn tekeminen osuuskunnan jäsenenä\, esittelyssä Mediakunta. Hanna Kokkonen\, toiminnanjohtaja\, Mediakunta.\n14–15 Media-alan sekatyöläisen puheenvuoro. Annina Vainio\, vapaa toimittaja ja tietokirjailija.\nJokaiseen puheenvuoron päätteeksi on aikaa kysymyksille ja keskustelulle. Kaikki puhujat ovat linjoilla tilaisuuden alusta loppuun asti. Voit esittää kysymyksiä myös etukäteen ilmoittautumisen yhteydessä.\n \nSuosittelemme webinaaria kaikille\, joita kiinnostaa erilaisten työnteon muotojen yhdisteleminen. Sisältö sopii myös aloitteleville freelancereille tai itsensä työllistämistä suunnitteleville. Helsingin Seudun Journalistien ja Suomen freelance-journalistien yhteinen webinaari on maksuton ja avoin kaikille Journalistiliiton jäsenille.\nIlmoittaudu webinaariin viimeistään 23.3. Ilmoittautuminen on sitova. Ilmoittautuneille lähetetään sähköpostitse Teams-linkki webinaaria edeltävänä päivänä.\n \nLämpimästi tervetuloa!
LOCATION:Teams
URL:http://tapahtuma.hsj.fi/tyonteonmuodot
END:VEVENT
END:VCALENDAR
