BEGIN:VCALENDAR
METHOD:PUBLISH
VERSION:2.0
PRODID:-//Eventilla iCal Syndication//NONSGML Liana//EN
BEGIN:VEVENT
UID:ZPR6J@eventilla.com
DTSTAMP:20211007T140000Z
DTSTART:20211007T140000Z
DTEND:20211007T170000Z
SUMMARY:FAME Musiikkimuseo
DESCRIPTION:Vierailu FAME Musiikkimuseoon\ntorstaina 7.10. klo 17–19\nMall of Tripla\, 3 krs.\, Fredrikanterassi 5 A\, Helsinki\nTervetuloa tutustumaan Suomen ensimmäiseen suomalaista musiikkia ja sen tekijöitä laajasti genrestä genreen esittelevään museoon!\nMuseoon on varattu 30:lle HSJ:n jäsenille yhteinen opastettu esittelykierros\, joka tutustuttaa museon toimintaan ja näyttelyyn. Famen vaihtuvana näyttelynä on tällä hetkellä Instant Kuusi – Sibelius\, Musiikki ja Metsä. Käyntiin kuuluu myös iltapala.\nFame sijaistee Pasilassa\, kauppakeskus Triplan 3. kerroksessa\, joten paikalle on helppo saapua myös julkisilla liikennevälineillä.\nIlta on maksuton HSJ:n jäsenille\, mutta muista varata mukaasi voimassa oleva Journalistiliiton jäsenkortti tai museokortti.\nOsallistuthan vierailuun terveenä. Noudatamme viranomaisten turvallisuusohjeistusta - tarkemmat tiedot siitä sekä saapumisohjeet museoon lähetetään osallistujille vielä ennen vierailua. Tervetuloa!
LOCATION:FAME Musiikkimuseo\, Fredrikanterassi 5 A\, 00520\, Helsinki
URL:http://tapahtuma.hsj.fi/event/ZPR6J
END:VEVENT
END:VCALENDAR
