BEGIN:VCALENDAR
METHOD:PUBLISH
VERSION:2.0
PRODID:-//Eventilla iCal Syndication//NONSGML Liana//EN
BEGIN:VEVENT
UID:ZPRNO@eventilla.com
DTSTAMP:20190320T150000Z
DTSTART:20190320T150000Z
DTEND:20190320T183000Z
SUMMARY:Vuosikokous 2019
DESCRIPTION:HSJ:n vuosikokous 2019\nSokos Hotelli Presidentissä keskiviikkona 20.3.2019.\nHuom! Ruokailu etukäteen ilmoittautuneille klo 17-18.Vuosikokous alkaa klo 18.\n• Kokouksessa käsitellään HSJ:n sääntöjen pykälän 23 edellyttämät asiat. Lisäksi käsitellään Aikakauslehdentoimittajain Säätiön hallituksen täydennysvaali ja tilintarkastajien valinta sekä HSJ:n sijoittamisen periaatteet.Ennakkoon ilmoittautuneille on tarjolla iltapalaa ruokajuomineen kello 17 alkaen.\n• Jäsenen\, jolla ei ole jäsenkorttia\, pitää muulla luotettavalla tavalla todistaa henkilöllisyytensä\, jotta jäsenyys voidaan tarkistaa jäsenrekisteristä.\n• Äänestys- ja puheenvuoropyyntölaput jaetaan kokouspaikalla.\n• Jäsenistöä pyydetään ottamaan nämä vuosikokouspaperit mukaan kokoukseen.\n• Ennen kokousta esiintyy HSJ:n Fraasi-kuoro. Lisäksi kokouksessa jaetaan Salli-journalistipalkinto.\n• Journalistiliiton tervehdyksen kokousväelle tuo puheenjohtaja Hanne Aho.HUOM! ruokatilausten vuoksi ilmoittautuminen pättyy 11.3.\nJos käytössäsi ei ole nettiyhteyttä\, voit ilmoittautua myös puhelimitse: 050 439 4538 tai 050 518 3353.\nTervetuloa!\n- Hallitus -
LOCATION:Hotelli Presidentin kokoustilat\, Eteläinen Rautatiekatu 4\,
 00100\, Helsinki
URL:http://tapahtuma.hsj.fi/event/ZPRNO
END:VEVENT
END:VCALENDAR
