BEGIN:VCALENDAR
METHOD:PUBLISH
VERSION:2.0
PRODID:-//Eventilla iCal Syndication//NONSGML Liana//EN
BEGIN:VEVENT
UID:aoAJA@eventilla.com
DTSTAMP:20251030T150000Z
DTSTART:20251030T150000Z
DTEND:20251030T170000Z
SUMMARY:Miten yleisöt ovat muuttuneet?
DESCRIPTION:Miten yleisöt ovat muuttuneet?\ntorstaina 30.10. klo 17Median museo ja arkisto Merkki\, Ludviginkatu 2–4\, Helsinki\nTeemme juttujamme lukijoita\, kuulijoita ja katselijoita varten\, mutta tunnemmeko oikeasti yleisöjämme? Mediahistorioitsija\, dosentti Jukka Kortti kertoo\, millaisia tiedotusvälineiden yleisöt ovat olleet ja miten ne ovat muuttuneet.\nJukka Kortti viimeistelee parhaillaan Yle 100 -yleisötutkimusta\, jonka tuoreisiin tietoihin hänen esityksensä perustuu. Yle 100 on Helsingin\, Jyväskylän\, Tampereen ja Turun yliopistojen sekä Ylen tutkimusohjelma\, jonka projektin vastaavana tutkijana ja varajohtajana Kortti toimii.\nTilaisuuden järjestää Sisällöntekijät ry\, joka on Helsingin Seudun Journalistien suurin toimitusosasto. Tilaisuuteen on vapaa pääsy kaikille HSJ:n jäsenille. Lämpimästi tervetuloa mukaan!\nIlmoittaudu viimeistään tiistaina 28. lokakuuta Kimmo Kontiolle osoitteeseen sahkopostikontiki@gmail.com tai numeroon 050 517 8609.\nLämpimästi tervetuloa!\n 
LOCATION:Median museo ja arkisto Merkki\, Ludviginkatu 2–4\, 00130\,
 Helsinki\, Suomi
URL:http://tapahtuma.hsj.fi/muuttuvatyleisot
END:VEVENT
END:VCALENDAR
