BEGIN:VCALENDAR
METHOD:PUBLISH
VERSION:2.0
PRODID:-//Eventilla iCal Syndication//NONSGML Liana//EN
BEGIN:VEVENT
UID:aqgQ7@eventilla.com
DTSTAMP:20230830T140000Z
DTSTART:20230830T140000Z
DTEND:20231011T160000Z
SUMMARY:Opi stand upia!
DESCRIPTION:Opi stand upia!\nNeljän kerran kurssi keskiviikkoisin 30.8.\, 13.9.\, 27.9. ja 11.10. kello 17–19\nUnelmoitko stand upin esittämisestä ja kirjoittamisesta tai oletko jo kokeillut\, mutta haluaisit oppia lisää? Tule HSJ:n stand up -kurssille! Sen vetää stand up -koomikko Inka Valima\, jonka kursseja kehutaan alalla.\nKurssiin kuuluu neljä kahden tunnin opetuskertaa\, joilla perehdytään vitsien teoriaan\, niiden kirjoittamiseen ja esittämiseen. Kurssikertojen välissä osallistujat tekevät kotitehtäviä ja saavat niistä opettajalta palautetta. Viimeisellä kurssikerralla osallistujat esittävät 3–5 minuuttia vitsimateriaalia ja saavat palautetta kurssitovereilta. Jos osallistuja haluaa\, esitys videoidaan. Opettaja antaa vinkkejä jatkoon. Kurssin ohjelma on alla.\nKurssille mahtuu 15 HSJ:n jäsentä\, ja yhdistyksen tukema jäsenhinta kurssille on 75 euroa. Kurssi pidetään Helsingin yliopiston pääkirjaston 7. kerroksessa sijaitsevassa Kaisa-salissa. Sisäänkäynti on osoitteesta Fabianinkatu 30.\n \nKurssin opettaja Inka Valima.\nKurssin ohjelma:1. opetuskerta: ke 30.8.kotitehtävän palautus 5.9.\, palautteet siitä 10.9.2. opetuskerta: ke 13.9.kotitehtäviä\, kirjoitusharjoituksia\, itseopiskelua viikolla 38 (ei palautuksia)3. opetuskerta: ke 27.9.kotitehtävän palautus 3.10.\, palautteet siitä 7.10.4. opetuskerta: ke 11.10.jokainen esittää 3–5 min vitsimateriaalia + saa palautteet luokalta yhteisestiIlmoittaudu viimeistään 14.8. Tervetuloa!
LOCATION:Helsingin yliopiston kirjasto, Kaisa-sali\, Fabianinkatu 30\,
 00100\, Helsinki\, Suomi
URL:http://tapahtuma.hsj.fi/standup
END:VEVENT
END:VCALENDAR
