BEGIN:VCALENDAR
METHOD:PUBLISH
VERSION:2.0
PRODID:-//Eventilla iCal Syndication//NONSGML Liana//EN
BEGIN:VEVENT
UID:aqrGG@eventilla.com
DTSTAMP:20210918T090000Z
DTSTART:20210918T090000Z
DTEND:20210918T130000Z
SUMMARY:Kråkö Bryggerin panimoretki
DESCRIPTION:Kråkö Bryggerin panimoretki\nlauantaina 18.9.\nlähtö Kiasman edestä klo 12\nHuom. ilmoittautumisaikaa jatkettu 15.9. klo 23.59 saakka. Vielä ehdit varata paikkasi!\nPienet panimot ja paikalliset oluet ovat palanneet Suomeen! Tällä retkellä tutustumme oluen panoon Porvoossa Kråkön saaren vanhassa kyläkoulussa\, jossa Robert Häggin ja Helena Rajalinnan pienpanimo aloitti toimintansa keväällä 2020. \nRetkellä tutustumme niin oluen panemisen prosessiin\, eri tyyppisiin olutlaatuihin kuin maistelemme panimon omia tuotteita taide-elämyksiä unohtamatta: panimon ohessa toimii myös taidegalleria.\n\nRetkelle paikkoja on yhteensä 25. Matkustamme väljästi bussilla.\nLinja-autoliike Leinon yhteiskuljetus lähtee Kiasman edestä (Mannerheiminaukio 2) kello 12\, tulethan paikalle ajoissa. Perillä Kråkössä ollaan kello 13 jälkeen.\nBussi palaa samaan osoitteeseen retken päätteeksi myöhemmin iltapäivällä. Takaisin lähdetään arviolta klo 15-16 aikaan. Paluumatkalla voi jäädä kyydistä Porvoon keskustassa tai Viikin rampilla.\n25 euron hinta sisältää kuljetuksen\, 6 maisteltavaa juomaa sekä kevyen aterian: olutlaatuihin tutustumisen ohessa nautitaan saaristolaishenkisiä tapaksia. Kerrothan erikoisruokavaliosta ja allergioista ilmoittautumisen yhteydessä. Maksua varten tarvitset pankkitunnukset tai puhelimen mobiilipankkisovelluksen.\nOsallistuthan retkelle vain terveenä. Bussissa ja panimossa käytetään kasvosuojaimia\, huolehdithan myös hyvästä käsihygieniasta.\n\nTervetuloa!\nHSJ tukee jäsentensä osallistumista maksullisiin koulutuksiin ja tapahtumiin vähintään 40 prosentilla.
LOCATION:Kråkö Bryggeri\, Veneenrakentajantie 5\, 07410\, Porvoo
URL:http://tapahtuma.hsj.fi/event/aqrGG
END:VEVENT
END:VCALENDAR
