BEGIN:VCALENDAR
METHOD:PUBLISH
VERSION:2.0
PRODID:-//Eventilla iCal Syndication//NONSGML Liana//EN
BEGIN:VEVENT
UID:aqrRG@eventilla.com
DTSTAMP:20201022T133000Z
DTSTART:20201022T133000Z
DTEND:20201022T170000Z
SUMMARY:Amos Rex: Egyptin loisto/Behind the Scenes
DESCRIPTION:Egyptin loisto –Viimeiset suuret dynastiat\nHSJ:n museovirailu Amos Rexiin & Behind the Scenes\nTo 22.10.2020klo 17:00>\nMitä nykyihmiselle tulee mieleen muinaisesta Egyptistä?Pyramidit\, sfinksit\, muumioiden kirous?\nAmos Rexin Egyptin loisto-näyttelyssä on esillä muinaisen Egyptin elämän ja kuoleman koko kirjo arkisista esineistä kultaisiin amuletteihin\, eläinten muumioihin ja suuriin veistoksiin.\nHSJ pääsee mukaan tutustumaan egyptiläisten vuodenkiertoon\, maailmankuvaan ja valtiorakenteeseen. Tutkimme egyptiläisten uskontoa\, jumalia ja vainajien muumiointia. \nNäyttelyn esineistö on saatu lainaan Torinon Museo Egiziosta. Museo Egizion kokoelma on yksi maailman tärkeimmistä muinaisen Egyptin taiteen ja kulttuurin kokoelmista Egyptin ulkopuolella.\nEnnen museokierrosta HSJ:n vieraat kurkistavat kulissien taakse.\nBio Rexissä toteutetetussa Behind the Scenes-tilaisuudessa kuullaan historiallisen näyttelyprojektin taustoja.Miten ja keiden toimesta suurnäyttely syntyy?Kuinka mittaamattoman arvokkaita esineitä käsitellään? Tilaisuuden vetävät näyttelypäällikkö Teijamari Jyrkkiö ja museolehtori Melanie Orenius. \nHSJ:n väen toivottaa tervetulleeksi kulissien taakse Amos Rexin ohjelmajohtaja Kaj Martin. \nBehind The Scenes klo 17:00 (ovet avautuvat klo 16:30)\n \n"Amos Rex on voimakkaasti kiinni nykyhetkessä ja suuntautunut tulevaisuuteen. Tulevaisuuden rakentaminen vaatii kuitenkin menneisyyden tuntemista." -  Kai Kartio\, museonjohtaja\n \nLÄHDE SEIKKAILULLE FARAOIDEN MAAILMAAN!
LOCATION:Amos Rex\, Mannerheimintie 22-24\, 00100\, Helsinki
URL:http://tapahtuma.hsj.fi/event/aqrRG
END:VEVENT
END:VCALENDAR
