BEGIN:VCALENDAR
METHOD:PUBLISH
VERSION:2.0
PRODID:-//Eventilla iCal Syndication//NONSGML Liana//EN
BEGIN:VEVENT
UID:aqrgD@eventilla.com
DTSTAMP:20221026T140000Z
DTSTART:20221026T140000Z
DTEND:20221026T170000Z
SUMMARY:Näin kirjoitat esseen 2
DESCRIPTION:Näin kirjoitat esseen\nOriginal Sokos Hotel Presidentti\, Eteläinen Rautatiekatu 4\, Helsinki\nKeskiviikkona 26.10. klo 17-20\nVietä innostava ilta suositun essee-koulutuksemme parissa! Luennosta\, työpajatehtävistä ja keskusteluista koostuva koulutus avartaa käsitystä esseistiikasta ja esseen mahdollisuuksista. \nKoulutus sopii kaikille esseiden lukemisesta ja kirjoittamisesta kiinnostuneille.\nKouluttajana toimii esseisti\, kriitikko FM Silvia Hosseini.\nKolmen tunnin aikana\n\npaneudutaan esseen lajityyppeihin\, ominaispiirteisiin ja keinoihin.\nosallistuja saa inspiraatiota\, lukuvinkkejä ja uusia ideoita kirjoittamiseen.\nvahvistetaan omaa persoonallista kirjoitustyyliä.\n\nNyt on aika teroittaa kynät!\n\nSilvia Hosseini on kirjailija\, kriitikko ja kirjoittamisen opettaja. Hän on kirjoittanut kaksi esseekokoelmaa: Pölyn ylistys (2018) sekä Tie\, totuus ja kuolema (2021). Hosseini tunnetaan myös yhteiskunnallisena keskustelijana ja Kulttuuriklinikka-podcastin luotsaajana\nSilvian toimia voi seurata myös hänen kotisivultaan.\n \nIlmoittaudu heti mukaan!\n \nTämä koulutus on maksullinen:\n\n 25 euroa työsuhteiset\, freelancerit\, eläkeläiset\n 10 euroa työttömät ja opiskelijat\n\nTilaisuus on avoin kaikille Journalistiliiton jäsenille.\nLippu valitaan ilmoittautumisen yhteydessä. Maksua varten tarvitset pankkitunnukset tai puhelimen mobiilipankkisovelluksen.\nMuistathan\, että työnantajalta voi tiedustella osallistumista ammatillisen koulutuksen kustannuksiin.\nTervetuloa!
LOCATION:Sokos Hotel Presidentti\, Eteläinen Rautatiekatu 4\, 00100\,
 Helsinki
URL:http://tapahtuma.hsj.fi/event/aqrgD
END:VEVENT
END:VCALENDAR
