BEGIN:VCALENDAR
METHOD:PUBLISH
VERSION:2.0
PRODID:-//Eventilla iCal Syndication//NONSGML Liana//EN
BEGIN:VEVENT
UID:aqrvp@eventilla.com
DTSTAMP:20190205T140000Z
DTSTART:20190205T140000Z
DTEND:20190205T180000Z
SUMMARY:SPR:n hätäensiapukurssi
DESCRIPTION:Kun hätä on suuri\, hätäensiapukurssista on hyötyä!\n5. helmikuuta kello 16 – 20 (varapäivä 5.2.)SPR:n koulutustiloissa\, Hietaniemenkatu 7B\, 00100 Helsinki\nSPR:n hätäensiapukurssi antaa valmiudet henkeä pelastavaan ensiapuun\, eli ne vähimmäistedot ja -taidot\, jotka jokaisella tulisi olla.\nNyt sinulla on mahdollisuus oppia auttamaan niin hätätilanteissa kuin tavallisimmissa sairaus- ja onnetomuustilanteissakin.\n\nKoulutuksen aiheita ovat muun muassa:\nTajuttomalle annettava ensiapuPeruselvytysVierasesineen poistaminen hengitysteistäVerenkierron häiriötila (sokki)Verenvuodon tyrehdyttäminenTarvitaessa ryhmäkohtaisia painotuksiaTapaturmien ehkäisy\nKurssin kesto: 4 oppituntia (á 45 min)Ryhmän koko: maksimissaan 20 henkilöä.\nKurssin suoritanut osaa aloittaa hätäensiavun antamisen. Hätäensiapukurssi on voimassa 3 vuotta. Se sopii myös kertauskurssiksi\, jolla voit jatkaa voimassaolevaa ensiapukurssi EA1- tai EA2 -todistuksen voimassaoloa 3 vuotta.
LOCATION:SPR:n koulutustiloissa,\, Hietaniemenkatu 7B\, 00100\, Helsinki
URL:http://tapahtuma.hsj.fi/event/aqrvp
END:VEVENT
END:VCALENDAR
