BEGIN:VCALENDAR
METHOD:PUBLISH
VERSION:2.0
PRODID:-//Eventilla iCal Syndication//NONSGML Liana//EN
BEGIN:VEVENT
UID:bJ5O0@eventilla.com
DTSTAMP:20230510T130000Z
DTSTART:20230510T130000Z
DTEND:20230510T170000Z
SUMMARY:Esiintymisjännitys hallintaan
DESCRIPTION:Esiintymisjännitys hallintaan\nkeskiviikkona 10.5. klo 16-20Journalistiliitto\, Säästöpankinranta 2 A\, 7. krs\, Hakaniemi\nMistä esiintymisjännitys johtuu? Miten voi puhua vakuuttavasti ja mielenkiintoisesti\, vaikka jännittää? \nTule oppimaan\, miten esiintymisjännitystä voi hallita ja miten sen kanssa voi onnistua. Kouluttajana toimii puhe- ja vuorovaikutustaidon kouluttaja Kaisa Osola\, joka valmentaa esimerkiksi Ylen ja Helsingin Sanomien journalisteja. \nIllan aikana opimme\, mistä elementeistä rakentuu taitava julkinen puheenvuoro ja miten sen voi pitää omana itsenään. Kuulemme myös äänenkäytön ja sanattoman viestinnän merkityksestä.\nKoulutus antaa työkaluja esiintymisjännityksen hallintaan ja julkiseen puhumiseen. Käytännön harjoitukset pitävät huolen siitä\, että opit kantavat myös koulutuksen jälkeen.\nEsiintymiskoulutus järjestetään Journalistiliiton tiloissa keskiviikkona 10.5. klo 16-20. Mukaan mahtuu 14 osallistujaa. Pieni ryhmäkoko helpottaa luottamuksellisen ilmapiirin syntymistä ja mahdollistaa henkilökohtaisen palautteen. Koulutukseen kuuluu itsenäinen ennakkovalmistautuminen\, joka vie aikaa noin 15 minuuttia.\n \n\nKouluttaja Kaisa Osola\, kuva: Jussi Ratilainen\nTämä koulutus on maksullinen:\n\n 25 euroa työsuhteiset\, freelancerit\, eläkeläiset\n 10 euroa työttömät ja opiskelijat\n\nLippu valitaan ilmoittautumisen yhteydessä. Maksua varten tarvitset pankkitunnukset tai puhelimen mobiilipankkisovelluksen.\nHintaan sisältyy ennen koulutusta tarjottava kahvi/tee ja sämpylä.\nHSJ tukee jäsentensä osallistumista maksullisiin koulutuksiin ja tapahtumiin vähintään 40 prosentilla. Muistathan\, että työnantajalta voi tiedustella osallistumista ammatillisen koulutuksen kustannuksiin.\nILMOITTAUDU VIIMEISTÄÄN 4.5.\nTervetuloa!
LOCATION:Journalistiliiton toimisto\, Säästöpankinranta 2 A\, 00530\,
 Helsinki
URL:http://tapahtuma.hsj.fi/event/bJ5O0
END:VEVENT
END:VCALENDAR
