BEGIN:VCALENDAR
METHOD:PUBLISH
VERSION:2.0
PRODID:-//Eventilla iCal Syndication//NONSGML Liana//EN
BEGIN:VEVENT
UID:bJ5Vg@eventilla.com
DTSTAMP:20201028T150000Z
DTSTART:20201028T150000Z
DTEND:20201028T180000Z
SUMMARY:Mediaviestinnän eri keinot
DESCRIPTION:Viestijä\, näin saat median huomion - ja mitä journalisti siitä ajattelee\nKeskiviikkona 28.10. klo 17 - 20\nSokos Hotelli Presidentti\, Eteläinen Rautatienkatu 4\, 00100 Helsinki\n \nMediaviestinnän eri keinot -koulutuksen tavoitteena on antaa viestintätehtävissä toimiville tai näissä tehtävissä tulevaisuudessa työllistyville HSJ:n jäsenille tietoa siitä\, miten jokin viesti saa ansaittua näkyvyyttä journalistisissa tiedotusvälineissä. Koulutus voi olla hyödyllinen myös journalisteille\, jotka haluavat olla perillä niistä keinoista\, joilla heidän toimituksellisiin ratkaisuihinsa pyritään vaikuttamaan.\n \nKoulutuksessa käsitellään mm.:\n\nMitä on mediaviestintä ja miksi se on hyvä hallita?\nJournalismin ja viestintäalan nykytilanne työllistäjänä\nNäin teet hyvän mediatiedotteen\nMediaviestinnän muut keinot\nHyvät mediasuhteet: näin yhteistyö sujuu toimittajien kanssa\nViestinnän tulosten seuranta: työkalut\, niiden valinta ja käyttö sekä tulosten hyödyntäminen viestinnän ja muun toiminnan kehittämisessä.\n\n \nJos 28.10. ei sovi sinulle\, ilmoittaudu varapäivään keskiviikkona 25.11. tästä linkistä. Koulutus järjestetään uudelleen\, jos ilmoittautuneita on tarpeeksi. Kurssille mahtuu 40 henkilöä.\nKouluttajana toimii markkinointi- ja viestintäalan asiantuntija Jaakko Kilpeläinen\, joka on työskennellyt myös Journalistiliiton tiedottajana. Kilpeläiseltä ilmestyi kesäkuussa tietokirja Ansaittu julkisuus – kaikki olennainen mediaviestinnästä.\n \nKurssin hinta on 25 euroa.Kysy työnantajaltasi\, maksaako se kurssin.Työttömät ja opiskelijat 10 euroa.\nKurssimaksu on maksettava ilmoittautumisen yhteydessä.JOS maksuvaiheessa tulee ongelmia ja ilmoittautuminen keskeytyy\, ilmoita asiasta toimistoontuula@hsj.fi tai jaana.virtanen@hsj.fi.Saat paluupostissa linkin\, josta pääset jatkamaan ilmoittautumisen ja maksamisen loppuun.  
LOCATION:Sokos Hotelli Presidentti\, Eteläinen Rautatiekatu 4\, 00100\,
 Helsinki
URL:http://tapahtuma.hsj.fi/event/bJ5Vg
END:VEVENT
END:VCALENDAR
