BEGIN:VCALENDAR
METHOD:PUBLISH
VERSION:2.0
PRODID:-//Eventilla iCal Syndication//NONSGML Liana//EN
BEGIN:VEVENT
UID:bJ5g4@eventilla.com
DTSTAMP:20221123T063000Z
DTSTART:20221123T063000Z
DTEND:20221123T100000Z
SUMMARY:Syksyn Magazine Symposium
DESCRIPTION:(Teksti jäsenkirjeestä 11.10.2022)\nMagazine Symposium 23.11.\nAikakausalaa yhdistävä Magazine Symposium tulee taas! Tapahtuman teema on luotettavuus: mitä on se ja kuinka luotettavuutta vaalitaan? Miten luotettavaa on haastattelemalla kerätty tieto?\nKahden vuoden tauon jälkeen seminaariin on mahdollista osallistua livenä. Symposium järjestetään Haaga-Helia amk:n auditoriossa Pasilassa keskiviikkona 23.11. kello 9–12 ja se videoidaan etäosallistujia varten. Ohjelma esiintyjineen tarkentuu\, mutta ilmoittautua voi jo nyt!\nPääsymaksuton tapahtuma on tarkoitettu niin aikakauslehtien tekijöille kuin opiskelijoille. Symposiumin tarjoavat Aikakausmedia\, Aikakauslehtien Päätoimittajat ry sekä Helsingin Seudun Journalistit. Tervetuloa!
LOCATION:Teams
URL:http://tapahtuma.hsj.fi/event/bJ5g4
END:VEVENT
END:VCALENDAR
