BEGIN:VCALENDAR
METHOD:PUBLISH
VERSION:2.0
PRODID:-//Eventilla iCal Syndication//NONSGML Liana//EN
BEGIN:VEVENT
UID:bJ5v0@eventilla.com
DTSTAMP:20190212T143000Z
DTSTART:20190212T143000Z
DTEND:20190212T153000Z
SUMMARY:Oodi- opastetut kierrokset
DESCRIPTION:"Oodi on ihana! Magneetin lailla se vetää puoleensa ja siellä kiertely on aina elämys. Oodi on tietoa\, taitoja ja tarinoita. Se on elävä\, avoin ja kiehtova kohtaamispaikka keskellä kylää."\nOpastetut kierrokset Oodiin\, Töölönlahdenkatu 4\, 00100 Helsinki 12.2. sekä 13.2. kello 16.30 alkaen.\nJoulukuun alkupuolella avattu keskuskirjastomme Oodi on kirvoittanut kehuja liki nimensä mukaisesti lyyrisen runon mittaan. Ja aiheesta!\nHelmikuussa HSJ:n jäsenillä on mahdollisuus päästä opastetulle vierailulle Oodiin.Runsaan tunnin mittaisella opastetulla kierroksella kuulemme muun muassa\, miten ja mistä kaikki sai alkunsa. Miten arkkitehti valikoitui\, ja sujuivatko rakennusvaiheet vailla yllätyksiä.Kierroksen aikana näemme\, mitä kaikkea hienoa valoisa ja tilava talo sisällensä kätkee.Kiinnostavaa on myös tietää\, millaisia tapahtumia talossa on tulossa\, ja mihin esimerkiksi varattavat/vuokrattavat tilat taipuvat.
LOCATION:Keskuskirjasto Oodi\, Töölönlahdenkatu 4\, 00100\, Helsinki
URL:http://tapahtuma.hsj.fi/event/bJ5v0
END:VEVENT
END:VCALENDAR
