BEGIN:VCALENDAR
METHOD:PUBLISH
VERSION:2.0
PRODID:-//Eventilla iCal Syndication//NONSGML Liana//EN
BEGIN:VEVENT
UID:bo36g@eventilla.com
DTSTAMP:20250911T133000Z
DTSTART:20250911T133000Z
DTEND:20250911T170000Z
SUMMARY:SPR Hätäensiapukurssi 8 t®
DESCRIPTION:SPR Hätäensiapukurssi 8 t® (jatkokurssi)\ntorstaina 11.9. klo 16.30–20Journalistiliiton toimisto\, Ympyrätalo\, Siltasaarenkatu 18 A\, 7. krs\, Helsinki\nTällä jatkokurssilla päivität osaamisesi SPR Hätäensiapukurssi 8 t® -tasolle. Se antaa perustiedot ja -taidot auttaa hätätilanteissa ja tavallisissa sairaus- ja onnettomuustilanteissa.\nIllan aikana kerrataan ensimmäisen kurssikerran sisältö ja opetellaan muun muassa erilaisten sairauskohtausten ensiapua. Jatkokurssin jälkeen sinulla on rohkeutta auttaa hätäensiapua vaativissa tilanteissa kotona\, vapaa-ajalla\, harrastustoiminnassa tai työpaikalla.\nKurssille mahtuu 20 osallistujaa. Osallistujat saavat mobiilitodistuksen kurssin suorittamisesta.\nKenelle?\nTälle kurssille voit osallistua vain\, jos olet käynyt HSJ:n tarjoaman SPR Hätäensiapu 4 t® -kurssin vuoden 2025 aikana. \nKurssin tarkempi sisältö\n\n1. kurssipäivän kertaus\ntavallisimpien sairauskohtausten tunnistaminen ja ensiapu\n\nesim. sydänkohtaus\, matala verensokeri\, aivoverenkirron häiriö\, astmakohtaus\, allerginen kohtaus\n\n\nhaavojen ja palovammojen ensiapu\nhenkinen ensiapu\nvarautuminen ja ennaltaehkäisy\n\nKouluttaja\nKouluttajana toimii Punaisen Ristin Ensiavun ja terveystiedon kouluttaja (ETK) Rina Oksanen.\nTodistus\nSPR:n ensiapukurssit ovat henkilösertifikoituja koulutuksia. Osallistujan suoritus viedään todistus- ja pätevyysrekisteriin\, jossa osallistuja voi itse seurata todistuksensa voimassaoloa.\nOsallistuja saa mobiilitodistuksen kurssin suorittamisesta. Todistus on voimassa kolme vuotta ja tunnustetaan kaikissa EU-maissa.\nJos osallistuja tahtoo kurssista mobiilitodistuksen lisäksi perinteisen kotiin lähetettävän ensiapukortin\, sen voi tilata itse SPR:n järjestelmän kautta hintaan 14\,90 € + alv.\nOsallistumismaksu\nHSJ:n tukeman jäsenhinta koulutukselle on:\n\n 30 euroa työsuhteiset\, freelancerit\, eläkeläiset\n 15 euroa työttömät ja opiskelijat\n\nLippu valitaan ilmoittautumisen yhteydessä. Maksua varten tarvitset pankkitunnukset tai puhelimen mobiilipankkisovelluksen.\nHintaan sisältyy ennen koulutusta tarjottava kahvi/tee ja sämpylä.\nHSJ tukee jäsentensä osallistumista maksullisiin koulutuksiin ja tapahtumiin vähintään 40 prosentilla. Muistathan\, että työnantajalta voi tiedustella osallistumista ammatillisen koulutuksen kustannuksiin.\nIlmoittaudu viimeistään 4.9. Tervetuloa!\nkuva: Marjaana Malkamäki / SPR\n \n---\nPERUUTUSEHDOT\n\nJos osallistuja peruu koulutuksen 4.9. mennessä\, kurssimaksu palautetaan\, mutta siitä vähennetään käsittelykuluina viisi euroa.\nJos peruutus tulee myöhemmin kuin 4.9. tai ilmoittautunut ei peruuta lainkaan eikä saavu paikalle\, 30 euron hintaisia tai sitä pienempiä kurssimaksuja ei palauteta (poikkeuksena sairaustodistus).\nHUOM! kurssin peruutus tulee tehdä myös HSJ:n toimistoon: laura.vuoma@hsj.fi\n
LOCATION:Journalistiliitto\, Siltasaarenkatu 18 A, 7. krs\, 00530\,
 Helsinki\, Suomi
URL:http://tapahtuma.hsj.fi/hataensiapu8t
END:VEVENT
END:VCALENDAR
