BEGIN:VCALENDAR
METHOD:PUBLISH
VERSION:2.0
PRODID:-//Eventilla iCal Syndication//NONSGML Liana//EN
BEGIN:VEVENT
UID:boYZ0@eventilla.com
DTSTAMP:20250130T160000Z
DTSTART:20250130T160000Z
DTEND:20250130T180000Z
SUMMARY:HSJ höntsä: curling
DESCRIPTION:HSJ-höntsät jatkuvat toivelajin parissa!\nTule kokeilemaan\nCURLINGIA\nOulunkylän curling-hallille torstaina 30.1. klo 18-20\n \nCurling\, tuo jäällä kumahtelevien graniittikivien ja sukkelasti suhaavien harjojen merkillinen yhteenliittymä\, jota urheiluksikin kutsutaan. Nyt HSJ:n jäsenillä on mahdollisuus tulla kokeilemaan hauskaksi\, sosiaaliseksi ja kaikille sopivaksi kehuttua olympialajia Ogeliin! \nTiesitkö\, että curling on yksi maailman vanhimmista joukkuelajeista? 1500-luvulla Skotlannissa keksityllä lajilla on eniten harrastajia Kanadassa\, jopa enemmän kuin jääkiekossa.\nSuomessa curling tuli tutuksi suurelle yleisölle Torinon olympiahopean 2006 myötä. Kapteeni Markku Uusipaavalniemen lisäksi joukkueessa kilpailivat tuolloin Wille Mäkelä\, Kalle Kiiskinen\, Teemu Salo\, Jani Sullanmaa ja valmentajana toimi Jari Laukkanen.\nTorstain 30.1. parituntisen aikana saamme perehdytystä lajiin\, heittoharjoituksia ja tietysti peliaikaa. Myös varusteet saadaan hallilta. Höntsääjien käytettävissä ovat myös pukuhuoneet suihkutiloineen.\nVarustus\nVaraa yllesi ulkoiluvaatteet\, joissa on mukava liikkua muutaman plusasteen lämpötilassa. Lenkkikengät ovat lajiin sopiva jalkine\, heiton ajaksi kengän alle asetettava liukupohja saadaan hallilta. Nastat on hyvä jättää pois näiltä sisäjäiltä.\nIrrallinen liukupohja on siitä hyvä\, että sen saa pois jalasta harjatessa\, jolloin jäällä liikkuminen on turvallisempaa ja harjaaminen sujuu aloittelijalla tehokkaammin.\nHeittäminen onnistuu myös seisaaltaan ilman liukupohjaa\, jos ei halua tai pysty liukumaan. Siksi laji sopii monenlaiselle liikkujalle.\nIlmoittautuminen\nTapahtuma on maksuton HSJ:n jäsenille. Radoilla heitetään 4-6 henkikön ryhmissä ja mukaan mahtuu 24 osallistujaa.\nIlmoittaudu mielellään jo 8.1. mennessä\, niin vältämme ylimääräisiä kuluja varaamalla vain tarvittavan määrän ratoja. \nMyös jonoon ilmoittautuminen kannattaa vapautuvien paikkojen varalta.\nSaapuminen\nCurling-halli (os. Käskynhaltijantie 11\, Helsinki) sijaitsee Oulunkylän liikuntapuiston alueella. Puistossa on ilmainen pysäköinti.\nHelsingin keskustasta perille pääsee julkisilla liikennevälineillä reilussa puolessa tunnissa.\nOulunkylän asemalle kulkevat K- ja I-junat. Asemalta on hallille noin 800 metrin kävelymatka\, tai matkaa voi jatkaa vaihtamalla asemalta bussiin numero 61 tai 64. Molemmat kulkevat Ogeliin Rautatientorilta. Myös Raide-Jokerin (15) pysäkki Teininpuisto on hallin läheisyydessä.\nEtsi sinulle sopiva yhteys jo etukäteen HSL:n reittioppaasta asettamalla määränpääksi Oulunkylän curling-halli.\nPeruutusehdot\n\nTapahtuma on osallistujille maksuton\, mutta esteen sattuessa muistathan perua ilmoittautumisesi mahdollisimman nopeasti.\nJos joudut perumaan osallistumisesi\, tee se ilmoittautumisvahvistuksen kautta. Sen saat sähköpostitse ilmoittautumisen yhteydessä. Lähetä peruutuksesta tieto myös HSJ:n toimistoon: johanna.sillanpaa@hsj.fi\n23.1. jälkeen peruutuksesta tai ilmoittamatta poisjäännistä peritään 20 euron maksu (poikkeuksena sairaustodistus)\, ellei tilalle ehditä saada toista osallistujaa.\n\nSaat tarkemmat ohjeet vielä lähempänä höntsäpäivää.\nLämpimästi tervetuloa!\n--\nHöntsissä tutustumme erilaisiin urheilulajeihin ammattilaisten tai aktiivisten harrastajien avulla vailla tulostavoitteita. Tärkeintä on hyväntuulinen pelailu\, erilaisten lajien kokeilu ja yhdessä liikkuminen. Aiempaa harrastuneisuutta tai pelitaustaa ei tarvita. Jokainen höntsäkerta on itsenäinen ja sille ilmoittaudutaan erikseen.
LOCATION:Oulunkylän curling-halli\, Käskynhaltijantie 11\, 00640\,
 Helsinki\, Suomi
URL:http://tapahtuma.hsj.fi/curling
END:VEVENT
END:VCALENDAR
