BEGIN:VCALENDAR
METHOD:PUBLISH
VERSION:2.0
PRODID:-//Eventilla iCal Syndication//NONSGML Liana//EN
BEGIN:VEVENT
UID:d1XG0@eventilla.com
DTSTAMP:20210518T053000Z
DTSTART:20210518T053000Z
DTEND:20210518T060000Z
SUMMARY:HSJ:n kotikoutsaus III: selkä
DESCRIPTION:(Teksti jäsenkirjeestä)\nKotikoutsaus III: Selkä\nTeams-webinaari tiistaina 18.5. klo 8.30–8.50\nLiity jälleen Joonaksen seuraan ensi viikolla\, kun aiheena on:\nKuinka selättää selkävaivat? Parhaat keinot vahvaan ja liikkuvaan keskivartaloon\nViimeinen koutsaus pidetään tiistaina 1.6\, jolloin teemana on palautuminen ja stressinhallinta.\nJoka ohjaukseen tulee uusi Teams-linkki\, joten laita tämä viesti talteen. Kokeile linkin toimivuutta etukäteen ja liity mukaan hieman ennen ohjauksen alkua. Live-osallistujilla on myös mahdollisuus kysyä neuvoa Joonakselta.\nKotikoutsaukset ovat jäsenille maksuttomia. Rohkeasti mukaan! Lisätietoja antaa Johanna: 050 5522 045 tai johanna.sillanpaa@hsj.fi.
LOCATION:Teams-webinaari
URL:http://tapahtuma.hsj.fi/event/d1XG0
END:VEVENT
END:VCALENDAR
